Workbook

Sheet Contents
A1: Price List for Mobile Phone Parts
A3: Number | C3: Contents
A4: 1 | C4: For IPhone LCD Price List | K4: ='Apple-LCD'!J2 -> 0
A5: 2 | C5: For Huawei&Honor LCD Price List | K5: ='Huawei&Honor'!J2 -> 0
A6: 3 | C6: For Samsung LCD Price List | K6: ='Samsung-LCD'!J2 -> 0
A7: 4 | C7: For Xiaomi&Redmi LCD Price List | K7: ='Xiaomi&Redmi'!J2 -> 0
A8: 5 | C8: For OPPO&VIVO&Realme LCD Price List | K8: ='OPPO&VIVO&Realme'!J2 -> 0
A9: 6 | C9: For MOTO LCD Price List | K9: ='MOTO LCD'!J2 -> 0
A10: 7 | C10: For ONEPLUS LCD Price List | K10: ='One plus'!J2 -> 0
A11: 8 | C11: Other Brands LCD Price List | K11: ='Other LCD'!J2 -> 0
J12: Total(USD)： | K12: =SUM(K4:K11) -> 0

Sheet Apple-LCD
A1: Apple-LCD
I2: Total(USD)： | J2: =SUM(J4:J583) -> 0
A3: Code | B3: Brand | C3: Model | D3: Unit Price (USD) | E3: Quality | F3: Description | G3: Color | H3: With logo (Y/N) | I3: Qty (PCS) | J3: Amount (USD)
A4: L27452 | B4: For Apple | C4: TL-Lcd-For Apple-A2179 | D4: 133.14 | E4: Original | F4: LCD+Touch with housing | G4: Black | H4: N | J4: =D4*I4 -> 0
A5: L05570 | B5: For Apple Watch | C5: ML-Lcd-For Apple Watch-S1 38MM | D5: 9.6 | E5: Original Self Welded | F5: LCD+Touch | G5: Black | H5: N | J5: =D5*I5 -> 0
A6: L05571 | B6: For Apple Watch | C6: ML-Lcd-For Apple Watch-S1 42MM | D6: 11.2 | E6: Original Self Welded | F6: LCD+Touch | G6: Black | H6: N | J6: =D6*I6 -> 0
A7: L05736 | B7: For Apple Watch | C7: ML-Lcd-For Apple Watch-S2 38mm | D7: 24.64 | E7: USED | F7: LCD+Touch | G7: Black | H7: N | J7: =D7*I7 -> 0
A8: L05737 | B8: For Apple Watch | C8: ML-Lcd-For Apple Watch-S2 42mm | D8: 39.68 | E8: USED | F8: LCD+Touch | G8: Black | H8: N | J8: =D8*I8 -> 0
A9: L05738 | B9: For Apple Watch | C9: ML-Lcd-For Apple Watch-S3 38MM | D9: 24.64 | E9: USED | F9: LCD+Touch GPS | G9: Black | H9: N | J9: =D9*I9 -> 0
A10: L05572 | B10: For Apple Watch | C10: ML-Lcd-For Apple Watch-S3 38MM | D10: 24.64 | E10: USED | F10: LCD+Touch Honeycomb Version | G10: Black | H10: N | J10: =D10*I10 -> 0
A11: L05739 | B11: For Apple Watch | C11: ML-Lcd-For Apple Watch-S3 42MM | D11: 44.26 | E11: USED | F11: LCD+Touch GPS | G11: Black | H11: N | J11: =D11*I11 -> 0
A12: L05573 | B12: For Apple Watch | C12: ML-Lcd-For Apple Watch-S3 42MM | D12: 41.21 | E12: USED | F12: LCD+Touch Honeycomb Version | G12: Black | H12: N | J12: =D12*I12 -> 0
A13: L05740 | B13: For Apple Watch | C13: ML-Lcd-For Apple Watch-S4 40MM | D13: 34.17 | E13: USED | F13: LCD+Touch | G13: Black | H13: N | J13: =D13*I13 -> 0
A14: L05741 | B14: For Apple Watch | C14: ML-Lcd-For Apple Watch-S4 44MM | D14: 47.73 | E14: USED | F14: LCD+Touch | G14: Black | H14: N | J14: =D14*I14 -> 0
A15: L05742 | B15: For Apple Watch | C15: ML-Lcd-For Apple Watch-S5 40MM | D15: 55.43 | E15: USED | F15: LCD+Touch | G15: Black | H15: N | J15: =D15*I15 -> 0
... A18: L11725 | B18: For Apple Watch | C18: ML-Lcd-For Apple Watch-S6 44mm | D18: 75.12 | E18: USED | F18: LCD+Touch | G18: Black | H18: N | J18: =D18*I18 -> 0
A19: L22318 | B19: For Apple Watch | C19: ML-Lcd-For Apple Watch-S7 41mm | D19: 38.83 | E19: USED | F19: LCD+Touch | H19: N | J19: =D19*I19 -> 0
A20: L22319 | B20: For Apple Watch | C20: ML-Lcd-For Apple Watch-S7 45mm | D20: 39.68 | E20: USED | F20: LCD+Touch | H20: N | J20: =D20*I20 -> 0
A21: L31738 | B21: For Apple Watch | C21: ML-Lcd-For Apple Watch-S8 41mm | D21: 68.99 | E21: Original | F21: LCD+Touch | G21: Black | H21: N | J21: =D21*I21 -> 0
A22: L31739 | B22: For Apple Watch | C22: ML-Lcd-For Apple Watch-S8 45mm | D22: 103.34 | E22: Original | F22: LCD+Touch | G22: Black | H22: N | J22: =D22*I22 -> 0
A23: L47050 | B23: For Apple Watch | C23: ML-Lcd-For Apple Watch-S9 41MM | D23: 83.95 | E23: Original | F23: LCD+Touch | H23: N | J23: =D23*I23 -> 0
A24: L43409 | B24: For Apple Watch | C24: ML-Lcd-For Apple Watch-S9 45MM | D24: 83.95 | E24: Original | F24: LCD+Touch | G24: Black | H24: N | J24: =D24*I24 -> 0
A25: L32877 | B25: For Apple Watch | C25: ML-Lcd-For Apple Watch-SE 2022 40MM | D25: 55.43 | E25: Original | F25: LCD+Touch | H25: N | J25: =D25*I25 -> 0
A26: L32878 | B26: For Apple Watch | C26: ML-Lcd-For Apple Watch-SE 2022 44MM | D26: 70.52 | E26: Original | F26: LCD+Touch | H26: N | J26: =D26*I26 -> 0
A27: L14903 | B27: For Apple Watch | C27: ML-Lcd-For Apple Watch-SE 40mm | D27: 55.43 | E27: Original Self Welded | F27: LCD+Touch SE 2020 | G27: Black | H27: N | J27: =D27*I27 -> 0
A28: L14904 | B28: For Apple Watch | C28: ML-Lcd-For Apple Watch-SE 44mm | D28: 70.52 | E28: Original Self Welded | F28: LCD+Touch SE 2020 | G28: Black | H28: N | J28: =D28*I28 -> 0
A29: L46304 | B29: For iPad | C29: TL-Lcd-For iPad-10 | D29: 77.42 | E29: Original | F29: LCD Only A2696/A2757/A2777 | G29: Black | H29: N | J29: =D29*I29 -> 0
A30: L44891 | B30: For iPad | C30: TL-Lcd-For iPad-10 | D30: 65.92 | E30: Original Self Welded | F30: LCD Only WiFi | G30: Black | H30: N | J30: =D30*I30 -> 0
A31: L14453 | B31: For iPad | C31: TL-Lcd-For iPad-12.9 4nd | D31: 137.68 | E31: Original | F31: LCD+Touch 12.9 2020/A2229/A2069/A2232/A2233/12.9 3rd Gen | G31: Black | H31: N | J31: =D31*I31 -> 0
A32: L44889 | B32: For iPad | C32: TL-Lcd-For iPad-12.9 4nd | D32: 96.85 | E32: Original Self Welded | F32: LCD+Touch 12.9 2020/A2229/A2069/A2232/A2233/12.9 3rd Gen | G32: Black | H32: N | J32: =D32*I32 -> 0
A33: L44991 | B33: For iPad | C33: TL-Lcd-For iPad-12.9 5nd | D33: 217.44 | E33: Original | F33: LCD+Touch A2378/A2461/A2379/A2462/A2764/A2347/A2766/A2436/A2379/A2461/12.9 6th Gen | G33: Black | H33: N | J33: =D33*I33 -> 0
A34: L47365 | B34: For iPad | C34: TL-Lcd-For iPad-12.9 5nd | D34: 140.96 | E34: Original Self Welded | F34: LCD+Touch A2378/A2461/A2379/A2462/A2764/A2347/A2766/A2436/A2379/A2461/12.9 6th Gen | G34: Black | H34: N | J34: =D34*I34 -> 0
A35: L00893 | B35: For iPad | C35: TL-Lcd-For iPad-2 | D35: 16.94 | E35: Original Self Welded | F35: LCD Only A1395/A1396/A1397 | H35: N | J35: =D35*I35 -> 0
A36: L50342 | B36: For iPad | C36: TL-Lcd-For iPad-2 | D36: 12.43 | E36: USED | F36: Lcd only A1395 A1396 A1397 | H36: N | J36: =D36*I36 -> 0
A37: L00895 | B37: For iPad | C37: TL-Lcd-For iPad-3 | D37: 12.43 | E37: Original Self Welded | F37: LCD Only A1416/A1430/A1403/iPad 4/A1458/A1459/A1460 | H37: N | J37: =D37*I37 -> 0
A38: L00897 | B38: For iPad | C38: TL-Lcd-For iPad-Air | D38: 31.06 | E38: Original Self Welded | F38: LCD Only iPad 5/A1474/A1475/A1476/iPad 2017/A1822/A1823/iPad 2018/A1893/A1954 | H38: N | J38: =D38*I38 -> 0
A39: L00898 | B39: For iPad | C39: TL-Lcd-For iPad-Air 2 | D39: 46.59 | E39: High Copy | F39: LCD+Touch iPad 6/A1566/A1567 | G39: Black | H39: N | J39: =D39*I39 -> 0
A40: L00899 | B40: For iPad | C40: TL-Lcd-For iPad-Air 2 | D40: 46.59 | E40: High Copy | F40: LCD+Touch iPad 6/A1566/A1567 | G40: White | H40: N | J40: =D40*I40 -> 0
A41: L05782 | B41: For iPad | C41: TL-Lcd-For iPad-Air 2 | D41: 47.73 | E41: original change glass | F41: LCD+Touch A1566/A1567 | G41: Black | H41: N | J41: =D41*I41 -> 0
A42: L05783 | B42: For iPad | C42: TL-Lcd-For iPad-Air 2 | D42: 52.66 | E42: original change glass | F42: LCD+Touch A1566/A1567 | G42: White | H42: N | J42: =D42*I42 -> 0
A43: L46131 | B43: For iPad | C43: TL-Lcd-For iPad-Air 2 | D43: 48.84 | E43: Original Self Welded | F43: LCD+Touch iPad 6/A1566/A1567 | G43: Black | H43: N | J43: =D43*I43 -> 0
A44: L10476 | B44: For iPad | C44: TL-Lcd-For iPad-Air 4 10.9 | D44: 140.96 | E44: Original | F44: LCD+Touch A2316/A2324/A2325/A2072/Air5 | G44: Black | H44: N | J44: =D44*I44 -> 0
A45: L18136 | B45: For iPad | C45: TL-Lcd-For iPad-Air 4 10.9 | D45: 106.38 | E45: Original Self Welded | F45: LCD+Touch A2316/A2324/A2325/A2072/Air 5 | G45: Black | H45: N | J45: =D45*I45 -> 0
A46: L45845 | B46: For iPad | C46: TL-Lcd-For iPad-Air 5 | D46: 99.86 | E46: Original Self Welded | F46: LCD+Touch WiFi | G46: Black | H46: N | J46: =D46*I46 -> 0
A47: L00927 | B47: For iPad | C47: TL-Lcd-For iPad-Mini | D47: 12.75 | E47: Original Self Welded | F47: LCD Only A1432/A1454/A1455 | H47: N | J47: =D47*I47 -> 0
A48: L00928 | B48: For iPad | C48: TL-Lcd-For iPad-Mini 2 | D48: 15.87 | E48: Original Self Welded | F48: LCD Only A1489/A1490/mini 3/A1599/A1600/A1601 | H48: N | J48: =D48*I48 -> 0
A49: L00933 | B49: For iPad | C49: TL-Lcd-For iPad-Mini 4 | D49: 28.08 | E49: Original Self Welded | F49: LCD+Touch A1538/A1550 | G49: Black | H49: N | J49: =D49*I49 -> 0
A50: L00934 | B50: For iPad | C50: TL-Lcd-For iPad-Mini 4 | D50: 27.72 | E50: Original Self Welded | F50: LCD+Touch A1538/A1550 | G50: White | H50: N | J50: =D50*I50 -> 0
A51: L00937 | B51: For iPad | C51: TL-Lcd-For iPad-Mini 5 | D51: 74.79 | E51: original change glass | F51: LCD+Touch | G51: Black | H51: N | J51: =D51*I51 -> 0
A52: L00938 | B52: For iPad | C52: TL-Lcd-For iPad-Mini 5 | D52: 74.79 | E52: original change glass | F52: LCD+Touch | G52: White | H52: N | J52: =D52*I52 -> 0
A53: L00939 | B53: For iPad | C53: TL-Lcd-For iPad-Mini 5 | D53: 28.08 | E53: Original Self Welded | F53: LCD+Touch A2133/A2124/A2126/A2125 | G53: Black | H53: N | J53: =D53*I53 -> 0
A54: L00940 | B54: For iPad | C54: TL-Lcd-For iPad-Mini 5 | D54: 28.08 | E54: Original Self Welded | F54: LCD+Touch A2133/A2124/A2126/A2125 | G54: White | H54: N | J54: =D54*I54 -> 0
A55: L48349 | B55: For iPad | C55: TL-Lcd-For iPad-Mini 6 | D55: 169.45 | E55: original change glass | F55: LCD+Touch | G55: Black | H55: N | J55: =D55*I55 -> 0
A56: L31587 | B56: For iPad | C56: TL-Lcd-For iPad-Mini 6 | D56: 140.96 | E56: Original Self Welded | F56: LCD+Touch | G56: Black | H56: N | J56: =D56*I56 -> 0
A57: L45745 | B57: For iPad | C57: TL-Lcd-For iPad-Pro 10.2 | D57: 26.52 | E57: High Copy | F57: LCD Only iPad 7/8/9 | H57: N | J57: =D57*I57 -> 0
A58: L08436 | B58: For iPad | C58: TL-Lcd-For iPad-Pro 10.2 | D58: 40.38 | E58: Original | F58: LCD Only iPad 7/iPad 8/iPad 9 | H58: N | J58: =D58*I58 -> 0
A59: L00926 | B59: For iPad | C59: TL-Lcd-For iPad-Pro 10.2 | D59: 37.27 | E59: Original Self Welded | F59: LCD Only iPad 7/iPad 8/iPad 9 | H59: N | J59: =D59*I59 -> 0
A60: L00911 | B60: For iPad | C60: TL-Lcd-For iPad-Pro 10.5 2017 | D60: 93.8 | E60: original change glass | F60: LCD+Touch A1701/A1709/A1852 | G60: White | H60: N | J60: =D60*I60 -> 0
A61: L00910 | B61: For iPad | C61: TL-Lcd-For iPad-Pro 10.5 2017 | D61: 103.34 | E61: original change glass | F61: LCD+Touch A1701/A1709/A1852 | G61: Black | H61: N | J61: =D61*I61 -> 0
A62: L00909 | B62: For iPad | C62: TL-Lcd-For iPad-Pro 10.5 2017 | D62: 50.81 | E62: Original Self Welded | F62: LCD+Touch A1701/A1709/A1852 | G62: White | H62: N | J62: =D62*I62 -> 0
A63: L00908 | B63: For iPad | C63: TL-Lcd-For iPad-Pro 10.5 2017 | D63: 50.81 | E63: Original Self Welded | F63: LCD+Touch A1701/A1709/A1852 | G63: Black | H63: N | J63: =D63*I63 -> 0
A64: L00916 | B64: For iPad | C64: TL-Lcd-For iPad-Pro 11 2018 1nd | D64: 128.6 | E64: Original | F64: LCD+Touch A1979/A1980/A1934/A2013 | G64: Black | H64: N | J64: =D64*I64 -> 0
A65: L38805 | B65: For iPad | C65: TL-Lcd-For iPad-Pro 11 2018 1nd | D65: 80.9 | E65: Original Self Welded | F65: LCD+Touch A1979/A1980/A1934/A2013/Pro 11 2020 2nd Gen | G65: Black | H65: N | J65: =D65*I65 -> 0
A66: L00920 | B66: For iPad | C66: TL-Lcd-For iPad-Pro 11 2020 2nd | D66: 146.76 | E66: Original | F66: LCD+Touch A2228/A2231/A2230 | G66: Black | H66: N | J66: =D66*I66 -> 0
A67: L19153 | B67: For iPad | C67: TL-Lcd-For iPad-Pro 11 2020 2nd | D67: 93.8 | E67: original change glass | F67: LCD+Touch | G67: Black | H67: N | J67: =D67*I67 -> 0
A68: L48255 | B68: For iPad | C68: TL-Lcd-For iPad-Pro 11 2020 2nd | D68: 84.73 | E68: Original Self Welded | F68: LCD+Touch A2228/A2231/A2230 | G68: Black | H68: N | J68: =D68*I68 -> 0
A69: L44446 | B69: For iPad | C69: TL-Lcd-For iPad-Pro 11 2020 2nd | D69: 93.8 | E69: Original Self Welded | F69: LCD+Touch | G69: Black | H69: N | J69: =D69*I69 -> 0
A70: L15616 | B70: For iPad | C70: TL-Lcd-For iPad-Pro 11 2021 3nd | D70: 161.96 | E70: Original | F70: LCD+Touch | G70: Black | H70: N | J70: =D70*I70 -> 0
A71: L38806 | B71: For iPad | C71: TL-Lcd-For iPad-Pro 11 2021 3nd | D71: 79.37 | E71: Original Self Welded | F71: LCD+Touch A2377/A2459/A2301/A2460 | G71: Black | H71: N | J71: =D71*I71 -> 0
... A188: L36805 | B188: For iPhone | C188: ML-Lcd-For iPhone-12 Pro Max | D188: 49.54 | E188: soft OLED | F188: LCD+Touch GX IC Removable | G188: Black | H188: N | J188: =D188*I188 -> 0
A189: L50086 | B189: For iPhone | C189: ML-Lcd-For iPhone-13 | D189: 31.83 | E189: hard OLED | F189: lcd+touch GX-2 IC removable | H189: N | J189: =D189*I189 -> 0
A190: L47325 | B190: For iPhone | C190: ML-Lcd-For iPhone-13 | D190: 30.75 | E190: hard OLED | F190: LCD+Touch ZY IC Removable | G190: Black | H190: N | J190: =D190*I190 -> 0
A191: L42150 | B191: For iPhone | C191: ML-Lcd-For iPhone-13 | D191: 31.98 | E191: hard OLED | F191: LCD+Touch GK IC Removable | G191: Black | H191: N | J191: =D191*I191 -> 0
A192: L38975 | B192: For iPhone | C192: ML-Lcd-For iPhone-13 | D192: 31.83 | E192: hard OLED | F192: LCD+Touch GX IC Removable | G192: Black | H192: N | J192: =D192*I192 -> 0
A193: L36160 | B193: For iPhone | C193: ML-Lcd-For iPhone-13 | D193: 32.75 | E193: hard OLED | F193: LCD+Touch YK IC Removable | G193: Black | H193: N | J193: =D193*I193 -> 0
A194: L50209 | B194: For iPhone | C194: ML-Lcd-For iPhone-13 | D194: 12.3 | E194: INCELL | F194: lcd+touch ZY FHD AA IC Removable | G194: Black | H194: N | J194: =D194*I194 -> 0
A195: L49694 | B195: For iPhone | C195: ML-Lcd-For iPhone-13 | D195: 10.77 | E195: INCELL | F195: LCD+Touch HL HD IC Removable | G195: Black | H195: N | J195: =D195*I195 -> 0
A196: L46690 | B196: For iPhone | C196: ML-Lcd-For iPhone-13 | D196: 9.82 | E196: INCELL | F196: LCD+Touch HL HD Small Size IC Removable | G196: Black | H196: N | J196: =D196*I196 -> 0
A197: L46297 | B197: For iPhone | C197: ML-Lcd-For iPhone-13 | D197: 11.99 | E197: INCELL | F197: LCD+Touch TX HD | G197: Black | H197: N | J197: =D197*I197 -> 0
A198: L45919 | B198: For iPhone | C198: ML-Lcd-For iPhone-13 | D198: 11.2 | E198: INCELL | F198: LCD+Touch ZY HD+ IC Removable | G198: Black | H198: N | J198: =D198*I198 -> 0
A199: L45263 | B199: For iPhone | C199: ML-Lcd-For iPhone-13 | D199: 12.15 | E199: INCELL | F199: LCD+Touch LT (PK/KD) HD IC Removable | G199: Black | H199: N | J199: =D199*I199 -> 0
A200: L45262 | B200: For iPhone | C200: ML-Lcd-For iPhone-13 | D200: 9.77 | E200: INCELL | F200: LCD+Touch LT (PK/KD) HD Small Size | G200: Black | H200: N | J200: =D200*I200 -> 0
A201: L38488 | B201: For iPhone | C201: ML-Lcd-For iPhone-13 | D201: 16.18 | E201: INCELL | F201: LCD+Touch ZY FHD AAA COF IC Removable | G201: Black | H201: N | J201: =D201*I201 -> 0
... A498: L29503 | B498: For iPhone | C498: ML-Lcd-For iPhone-X | D498: 19.08 | E498: hard OLED | F498: LCD+Touch New GX-2 | G498: Black | H498: N | J498: =D498*I498 -> 0
A499: L12637 | B499: For iPhone | C499: ML-Lcd-For iPhone-X | D499: 19.55 | E499: hard OLED | F499: LCD+Touch New GX | H499: N | J499: =D499*I499 -> 0
A500: L03149 | B500: For iPhone | C500: ML-Lcd-For iPhone-X | D500: 18.93 | E500: hard OLED | F500: LCD+Touch HE (GX) | G500: Black | H500: N | J500: =D500*I500 -> 0
A501: L03150 | B501: For iPhone | C501: ML-Lcd-For iPhone-X | D501: 21.34 | E501: hard OLED | F501: LCD+Touch GX | G501: Black | H501: N | J501: =D501*I501 -> 0
A502: L49938 | B502: For iPhone | C502: ML-Lcd-For iPhone-X | D502: 10.3 | E502: INCELL | F502: LCD+Touch ZY FHD AA | G502: Black | H502: N | J502: =D502*I502 -> 0
A503: L47548 | B503: For iPhone | C503: ML-Lcd-For iPhone-X | D503: 7 | E503: INCELL | F503: LCD+Touch HL HD | G503: Black | H503: N | J503: =D503*I503 -> 0
A504: L46836 | B504: For iPhone | C504: ML-Lcd-For iPhone-X | D504: 9.5 | E504: INCELL | F504: LCD+Touch JK-2 | G504: Black | H504: N | J504: =D504*I504 -> 0
A505: L45920 | B505: For iPhone | C505: ML-Lcd-For iPhone-X | D505: 8.24 | E505: INCELL | F505: LCD+Touch ZY HD | G505: Black | H505: N | J505: =D505*I505 -> 0
A506: L43099 | B506: For iPhone | C506: ML-Lcd-For iPhone-X | D506: 6.98 | E506: INCELL | F506: LCD+Touch QS HD | G506: Black | H506: N | J506: =D506*I506 -> 0
A507: L41117 | B507: For iPhone | C507: ML-Lcd-For iPhone-X | D507: 11.2 | E507: INCELL | F507: LCD+Touch New RJ FHD | G507: Black | H507: N | J507: =D507*I507 -> 0
A508: L39622 | B508: For iPhone | C508: ML-Lcd-For iPhone-X | D508: 7.79 | E508: INCELL | F508: LCD+Touch Moshi HD | G508: Black | H508: N | J508: =D508*I508 -> 0
A509: L34833 | B509: For iPhone | C509: ML-Lcd-For iPhone-X | D509: 11.36 | E509: INCELL | F509: LCD+Touch New ZY FHD AAA | G509: Black | H509: N | J509: =D509*I509 -> 0
A510: L34553 | B510: For iPhone | C510: ML-Lcd-For iPhone-X | D510: 8.87 | E510: INCELL | F510: LCD+Touch ZY HD+ | G510: Black | H510: N | J510: =D510*I510 -> 0
A511: L14573 | B511: For iPhone | C511: ML-Lcd-For iPhone-X | D511: 7.32 | E511: INCELL | F511: LCD+Touch LT(PK/KD) HD | G511: Black | H511: N | J511: =D511*I511 -> 0
... A583: L07897 | B583: For iPod | C583: ML-Lcd-For iPod-Touch 5 | D583: 11.34 | E583: Original Self Welded | F583: LCD+Touch Touch 6/Touch 7 | G583: Black | H583: N | J583: =D583*I583 -> 0

Sheet Huawei&Honor
A1: Huawei & Honor-LCD
I2: Total(USD)： | J2: =SUM(J4:J689) -> 0
A3: Code | B3: Brand | C3: Model | D3: Unit Price (USD) | E3: Quality | F3: Description | G3: Color | H3: With logo (Y/N) | I3: Qty (PCS) | J3: Amount (USD)
A4: L46672 | B4: For Honor | C4: ML-Lcd-For Honor-200 | D4: 41.93 | E4: Original | F4: LCD+Touch with frame | G4: Black | H4: N | J4: =D4*I4 -> 0
A5: L46671 | B5: For Honor | C5: ML-Lcd-For Honor-200 | D5: 37.27 | E5: Original | F5: LCD+Touch | G5: Black | H5: N | J5: =D5*I5 -> 0
A6: L50386 | B6: For Honor | C6: ML-Lcd-For Honor-200 | D6: 32.62 | E6: Original Self Welded | F6: LCD+Touch | G6: Black | H6: N | J6: =D6*I6 -> 0
A7: L49964 | B7: For Honor | C7: ML-Lcd-For Honor-200 Pro | D7: 61.59 | E7: Original | F7: LCD+Touch with frame | G7: Sliver | H7: N | J7: =D7*I7 -> 0
A8: L49963 | B8: For Honor | C8: ML-Lcd-For Honor-200 Pro | D8: 61.59 | E8: Original | F8: LCD+Touch with frame | G8: Black | H8: N | J8: =D8*I8 -> 0
A9: L48275 | B9: For Honor | C9: ML-Lcd-For Honor-200 Pro | D9: 41.21 | E9: Original | F9: LCD+Touch | G9: Black | H9: N | J9: =D9*I9 -> 0
A10: L49312 | B10: For Honor | C10: ML-Lcd-For Honor-200 Pro | D10: 43.49 | E10: Original Self Welded | F10: LCD+Touch | G10: Black | H10: N | J10: =D10*I10 -> 0
A11: L35695 | B11: For Honor | C11: ML-Lcd-For Honor-HONOR 10 | D11: 15.4 | E11: Original Self Welded | F11: LCD+Touch with frame | G11: Blue | H11: N | J11: =D11*I11 -> 0
A12: L13388 | B12: For Honor | C12: ML-Lcd-For Honor-HONOR 10 | D12: 15.4 | E12: Original Self Welded | F12: LCD+Touch with frame | G12: Black | H12: N | J12: =D12*I12 -> 0
A13: L00111 | B13: For Honor | C13: ML-Lcd-For Honor-HONOR 10 | D13: 8.15 | E13: Original Self Welded | F13: LCD+Touch with fingerprint flex | G13: Black | H13: N | J13: =D13*I13 -> 0
A14: L00110 | B14: For Honor | C14: ML-Lcd-For Honor-HONOR 10 | D14: 6.5 | E14: Original Self Welded | F14: LCD+Touch without fingerprint flex | G14: Black | H14: N | J14: =D14*I14 -> 0
A15: L37168 | B15: For Honor | C15: ML-Lcd-For Honor-HONOR 10 Lite | D15: 8.62 | E15: INCELL | F15: LCD+Touch with frame COG Honor 20 Lite | G15: Blue | H15: N | J15: =D15*I15 -> 0
... A676: L00368 | B676: For Huawei | C676: TL-Lcd-For Huawei-T1-701 | D676: 8.62 | E676: Original Self Welded | F676: LCD+Touch | G676: Black | H676: N | J676: =D676*I676 -> 0
A677: L00370 | B677: For Huawei | C677: TL-Lcd-For Huawei-T1-A21 | D677: 17.45 | E677: Original | F677: LCD Only | H677: N | J677: =D677*I677 -> 0
A678: L20801 | B678: For Huawei | C678: TL-Lcd-For Huawei-T3 10 inch | D678: 14.75 | E678: Original Self Welded | F678: LCD+Touch AGS-L09/AGS-W09 | G678: White | H678: N | J678: =D678*I678 -> 0
A679: L02944 | B679: For Huawei | C679: TL-Lcd-For Huawei-T3 10 inch | D679: 15.07 | E679: Original Self Welded | F679: LCD+Touch AGS-W09/AGS-L09 | G679: Black | H679: N | J679: =D679*I679 -> 0
A680: L25147 | B680: For Huawei | C680: TL-Lcd-For Huawei-T3 7 inch | D680: 8.8 | E680: High Copy | F680: LCD+Touch 3G/BG2-U01/BG2-U03 | G680: Black | H680: N | J680: =D680*I680 -> 0
A681: L22247 | B681: For Huawei | C681: TL-Lcd-For Huawei-T3 7 inch | D681: 8.3 | E681: High Copy | F681: LCD+Touch WiFi BG2-W09 | G681: Black | H681: N | J681: =D681*I681 -> 0
A682: L19458 | B682: For Huawei | C682: TL-Lcd-For Huawei-T3 8 inch | D682: 9.71 | E682: Original Self Welded | F682: LCD+Touch KOB-L09 | G682: Black | H682: N | J682: =D682*I682 -> 0
A683: L24012 | B683: For Huawei | C683: TL-Lcd-For Huawei-T5 10.1 inch | D683: 15.87 | E683: Original Self Welded | F683: LCD+Touch T5-10" without hole WiFi | G683: White | H683: N | J683: =D683*I683 -> 0
A684: L18130 | B684: For Huawei | C684: TL-Lcd-For Huawei-T5 10.1 inch | D684: 15.87 | E684: Original Self Welded | F684: LCD+Touch without hole WiFi T5-10" AGS2-L09 | G684: Black | H684: N | J684: =D684*I684 -> 0
A685: L18019 | B685: For Huawei | C685: TL-Lcd-For Huawei-T5 10.1 inch | D685: 16.94 | E685: Original Self Welded | F685: LCD+Touch T5-10" with hole 3G | G685: White | H685: N | J685: =D685*I685 -> 0
A686: L00384 | B686: For Huawei | C686: TL-Lcd-For Huawei-T5 10.1 inch | D686: 16.94 | E686: Original Self Welded | F686: LCD+Touch T5-10" with hole 3G | G686: Black | H686: N | J686: =D686*I686 -> 0
A687: L28318 | B687: For Huawei | C687: TL-Lcd-For Huawei-T8 | D687: 8.3 | E687: High Copy | F687: LCD+Touch 8" MatePad T8/KOB2-W09/KOB2-L09 | G687: Black | H687: N | J687: =D687*I687 -> 0
A688: L09930 | B688: For Huawei | C688: TL-Lcd-For Huawei-T8 | D688: 9.87 | E688: Original | F688: LCD+Touch 8" MatePad t8 KOB2-W09 KOB2-L09 | G688: Black | H688: N | J688: =D688*I688 -> 0
A689: L09161 | B689: For Huawei | C689: TL-Lcd-For Huawei-T8 | D689: 8.93 | E689: Original Self Welded | F689: LCD+Touch 8" MatePad t8/KOB2-W09/KOB2-L09 | G689: Black | H689: N | J689: =D689*I689 -> 0

Sheet Samsung-LCD
A1: Samsung-LCD
I2: Total(USD)： | J2: =SUM(J4:J1348) -> 0
A3: Code | B3: Brand | C3: Model | D3: Unit Price (USD) | E3: Quality | F3: Description | G3: Color | H3: With logo (Y/N) | I3: Qty (PCS) | J3: Amount (USD)
A4: L07774 | B4: For Samsung | C4: ML-Lcd-For Samsung-A013 | D4: 4.72 | E4: INCELL | F4: LCD+Touch A01 Core | G4: Black | H4: N | J4: =D4*I4 -> 0
A5: L35048 | B5: For Samsung | C5: ML-Lcd-For Samsung-A013 | D5: 6.32 | E5: Original Self Welded | F5: LCD+Touch with empty frame | G5: Black | H5: N | J5: =D5*I5 -> 0
A6: L17617 | B6: For Samsung | C6: ML-Lcd-For Samsung-A013 | D6: 7.07 | E6: Original Self Welded | F6: LCD+Touch with frame(with glue, flex, speaker, vibrator ) | G6: Black | H6: N | J6: =D6*I6 -> 0
A7: L05318 | B7: For Samsung | C7: ML-Lcd-For Samsung-A013 | D7: 5.02 | E7: Original Self Welded | F7: LCD+Touch A01 Core/A3 Core/M01 Core | G7: Black | H7: N | J7: =D7*I7 -> 0
A8: L48944 | B8: For Samsung | C8: ML-Lcd-For Samsung-A01F | D8: 4.88 | E8: INCELL | F8: LCD+Touch A01 | G8: Black | H8: N | J8: =D8*I8 -> 0
A9: L46277 | B9: For Samsung | C9: ML-Lcd-For Samsung-A01F | D9: 6.59 | E9: Original Self Welded | F9: LCD+Touch with frame(with glue, flex) | G9: Black | H9: N | J9: =D9*I9 -> 0
A10: L13788 | B10: For Samsung | C10: ML-Lcd-For Samsung-A01F | D10: 7.55 | E10: Original Self Welded | F10: LCD+Touch with frame(with glue, flex, speaker, vibrator) | G10: Black | H10: N | J10: =D10*I10 -> 0
A11: L02976 | B11: For Samsung | C11: ML-Lcd-For Samsung-A01F | D11: 4.86 | E11: Original Self Welded | F11: LCD+Touch A01 | G11: Black | H11: N | J11: =D11*I11 -> 0
A12: L50355 | B12: For Samsung | C12: ML-Lcd-For Samsung-A01M | D12: 6.03 | E12: INCELL | F12: LCD+Touch with frame（with glue，flex） | G12: Black | H12: N | J12: =D12*I12 -> 0
A13: L49065 | B13: For Samsung | C13: ML-Lcd-For Samsung-A01M | D13: 4.72 | E13: INCELL | F13: LCD+Touch A01 | G13: Black | H13: N | J13: =D13*I13 -> 0
A14: L44513 | B14: For Samsung | C14: ML-Lcd-For Samsung-A01M | D14: 5.02 | E14: Original Self Welded | F14: LCD+Touch high light A01 | G14: Black | H14: N | J14: =D14*I14 -> 0
A15: L36085 | B15: For Samsung | C15: ML-Lcd-For Samsung-A01M | D15: 6.59 | E15: Original Self Welded | F15: LCD+Touch with frame(with glue, flex) | G15: Black | H15: N | J15: =D15*I15 -> 0
... A292: L19297 | B292: For Samsung | C292: ML-Lcd-For Samsung-A22 4G | D292: 7.71 | E292: INCELL | F292: LCD+Touch 6.4" | G292: Black | H292: N | J292: =D292*I292 -> 0
A293: L49201 | B293: For Samsung | C293: ML-Lcd-For Samsung-A22 4G | D293: 21.24 | E293: new Original | F293: LCD+Touch | H293: N | J293: =D293*I293 -> 0
A294: L18642 | B294: For Samsung | C294: ML-Lcd-For Samsung-A22 4G | D294: 23.6 | E294: new Original | F294: LCD+Touch with frame A225 | G294: Black | H294: N | J294: =D294*I294 -> 0
A295: L37659 | B295: For Samsung | C295: ML-Lcd-For Samsung-A22 4G | D295: 22.81 | E295: original change glass | F295: LCD+Touch | G295: Black | H295: N | J295: =D295*I295 -> 0
A296: L38875 | B296: For Samsung | C296: ML-Lcd-For Samsung-A22 5G | D296: 7.39 | E296: INCELL | F296: LCD+Touch with empty frame | G296: Black | H296: N | J296: =D296*I296 -> 0
A297: L38874 | B297: For Samsung | C297: ML-Lcd-For Samsung-A22 5G | D297: 8.8 | E297: INCELL | F297: LCD+Touch with frame(with glue, flex, speaker, vibrator ) | G297: Black | H297: N | J297: =D297*I297 -> 0
A298: L37888 | B298: For Samsung | C298: ML-Lcd-For Samsung-A22 5G | D298: 6.32 | E298: INCELL | F298: LCD+Touch A226 | G298: Black | H298: N | J298: =D298*I298 -> 0
A299: L16616 | B299: For Samsung | C299: ML-Lcd-For Samsung-A22 5G | D299: 11.2 | E299: Original | F299: LCD+Touch with frame A226 | G299: Black | H299: N | J299: =D299*I299 -> 0
A300: L16615 | B300: For Samsung | C300: ML-Lcd-For Samsung-A22 5G | D300: 7.95 | E300: Original | F300: LCD+Touch A226 | G300: Black | H300: N | J300: =D300*I300 -> 0
A301: L44504 | B301: For Samsung | C301: ML-Lcd-For Samsung-A22 5G | D301: 6.59 | E301: Original Self Welded | F301: LCD+Touch high light A226 | G301: Black | H301: N | J301: =D301*I301 -> 0
A302: L35427 | B302: For Samsung | C302: ML-Lcd-For Samsung-A22 5G | D302: 9.12 | E302: Original Self Welded | F302: LCD+Touch with empty frame | G302: Black | H302: N | J302: =D302*I302 -> 0
A303: L18374 | B303: For Samsung | C303: ML-Lcd-For Samsung-A22 5G | D303: 10.4 | E303: Original Self Welded | F303: LCD+Touch with frame(with glue, flex, speaker, vibrator ) | G303: Black | H303: N | J303: =D303*I303 -> 0
A304: L16614 | B304: For Samsung | C304: ML-Lcd-For Samsung-A22 5G | D304: 7.95 | E304: Original Self Welded | F304: LCD+Touch A226 | G304: Black | H304: N | J304: =D304*I304 -> 0
A305: L50855 | B305: For Samsung | C305: ML-Lcd-For Samsung-A23 4G | D305: 7.87 | E305: INCELL | F305: LCD+Touch with empty frame | G305: Black | H305: N | J305: =D305*I305 -> 0
... A345: L43881 | B345: For Samsung | C345: ML-Lcd-For Samsung-A3 2017 | D345: 6.27 | E345: OLED II | F345: LCD+Touch A320 | G345: Black | H345: N | J345: =D345*I345 -> 0
A346: L02984 | B346: For Samsung | C346: ML-Lcd-For Samsung-A30 | D346: 16.32 | F346: LCD+Touch | G346: Black | H346: N | J346: =D346*I346 -> 0
A347: L05306 | B347: For Samsung | C347: ML-Lcd-For Samsung-A30 | D347: 17.71 | E347: hard OLED | F347: LCD+Touch with frame A305 | G347: Black | H347: N | J347: =D347*I347 -> 0
A348: L08176 | B348: For Samsung | C348: ML-Lcd-For Samsung-A30 | D348: 36.63 | E348: original change glass | F348: LCD+Touch with frame A305 | G348: Black | H348: N | J348: =D348*I348 -> 0
A349: L08173 | B349: For Samsung | C349: ML-Lcd-For Samsung-A30 | D349: 34.34 | E349: original change glass | F349: LCD+Touch A305 | G349: Black | H349: N | J349: =D349*I349 -> 0
A350: L51083 | B350: For Samsung | C350: ML-Lcd-For Samsung-A30S | D350: 19.12 | E350: hard OLED | F350: LCD+Touch with frame(with glue, speaker, vibrator ) | G350: Black | H350: N | J350: =D350*I350 -> 0
A351: L05305 | B351: For Samsung | C351: ML-Lcd-For Samsung-A30S | D351: 18.17 | E351: hard OLED | F351: LCD+Touch with frame A307 | G351: Black | H351: N | J351: =D351*I351 -> 0
A352: L02988 | B352: For Samsung | C352: ML-Lcd-For Samsung-A30S | D352: 17.45 | E352: hard OLED | F352: LCD+Touch A307 | G352: Black | H352: N | J352: =D352*I352 -> 0
A353: L49739 | B353: For Samsung | C353: ML-Lcd-For Samsung-A30S | D353: 10.4 | E353: INCELL | F353: LCD+Touch with frame (with glue，speaker，vibrator )high light T2O 6.33" | G353: Black | H353: N | J353: =D353*I353 -> 0
A354: L39378 | B354: For Samsung | C354: ML-Lcd-For Samsung-A30S | D354: 6.43 | E354: INCELL | F354: LCD+Touch with frame 6.3" | G354: Black | H354: N | J354: =D354*I354 -> 0
A355: L39377 | B355: For Samsung | C355: ML-Lcd-For Samsung-A30S | D355: 5.51 | E355: INCELL | F355: LCD+Touch 6.3" | G355: Black | H355: N | J355: =D355*I355 -> 0
A356: L11563 | B356: For Samsung | C356: ML-Lcd-For Samsung-A30S | D356: 8.8 | E356: INCELL | F356: LCD+Touch with frame high light T2O 6.33" | G356: Black | H356: N | J356: =D356*I356 -> 0
A357: L02989 | B357: For Samsung | C357: ML-Lcd-For Samsung-A30S | D357: 7.71 | E357: INCELL | F357: LCD+Touch high light T2O 6.33" | G357: Black | H357: N | J357: =D357*I357 -> 0
A358: L02990 | B358: For Samsung | C358: ML-Lcd-For Samsung-A30S | D358: 40.38 | E358: new Original | F358: LCD+Touch with frame A307 | G358: Black | H358: N | J358: =D358*I358 -> 0
... A558: L51093 | B558: For Samsung | C558: ML-Lcd-For Samsung-A54 | D558: 24.59 | E558: hard OLED | F558: LCD+Touch with frame(with glue, speaker, vibrator ) | G558: Black | H558: N | J558: =D558*I558 -> 0
A559: L45923 | B559: For Samsung | C559: ML-Lcd-For Samsung-A54 | D559: 20.22 | E559: hard OLED | F559: LCD+Touch Small Size | H559: N | J559: =D559*I559 -> 0
A560: L49748 | B560: For Samsung | C560: ML-Lcd-For Samsung-A54 | D560: 18.48 | E560: INCELL | F560: LCD+Touch with frame(with glue, flex, speaker, vibrator )high light T2O 6.4" | G560: Black | H560: N | J560: =D560*I560 -> 0
A561: L46742 | B561: For Samsung | C561: ML-Lcd-For Samsung-A54 | D561: 9.28 | E561: INCELL | F561: LCD+Touch | G561: Black | H561: N | J561: =D561*I561 -> 0
A562: L41335 | B562: For Samsung | C562: ML-Lcd-For Samsung-A54 | D562: 17.45 | E562: INCELL | F562: LCD+Touch with frame high light T2O 6.4" | G562: Black | H562: N | J562: =D562*I562 -> 0
A563: L38892 | B563: For Samsung | C563: ML-Lcd-For Samsung-A54 | D563: 10.2 | E563: INCELL | F563: LCD+Touch with frame | G563: Black | H563: N | J563: =D563*I563 -> 0
A564: L37740 | B564: For Samsung | C564: ML-Lcd-For Samsung-A54 5G | D564: 21.4 | E564: hard OLED | F564: LCD+Touch with frame Small Size | G564: Black | H564: N | J564: =D564*I564 -> 0
A565: L37207 | B565: For Samsung | C565: ML-Lcd-For Samsung-A54 5G | D565: 23.6 | E565: hard OLED | F565: LCD+Touch with frame | G565: Black | H565: N | J565: =D565*I565 -> 0
A566: L37105 | B566: For Samsung | C566: ML-Lcd-For Samsung-A54 5G | D566: 66.69 | E566: new Original | F566: LCD+Touch with frame | G566: Purple | H566: N | J566: =D566*I566 -> 0
A567: L36400 | B567: For Samsung | C567: ML-Lcd-For Samsung-A54 5G | D567: 66.69 | E567: new Original | F567: LCD+Touch with frame | G567: Green | H567: N | J567: =D567*I567 -> 0
A568: L36399 | B568: For Samsung | C568: ML-Lcd-For Samsung-A54 5G | D568: 65.15 | E568: new Original | F568: LCD+Touch with frame | G568: White | H568: N | J568: =D568*I568 -> 0
A569: L34219 | B569: For Samsung | C569: ML-Lcd-For Samsung-A54 5G | D569: 62.85 | E569: new Original | F569: LCD+Touch | G569: Black | H569: N | J569: =D569*I569 -> 0
A570: L34149 | B570: For Samsung | C570: ML-Lcd-For Samsung-A54 5G | D570: 65.92 | E570: new Original | F570: LCD+Touch with frame | G570: Black | H570: N | J570: =D570*I570 -> 0
A571: L50494 | B571: For Samsung | C571: ML-Lcd-For Samsung-A54 5G | D571: 63.62 | E571: original change glass | F571: LCD+Touch with frame | G571: Green | H571: N | J571: =D571*I571 -> 0
... A666: L26090 | B666: For Samsung | C666: ML-Lcd-For Samsung-A920 | D666: 38.92 | E666: original change glass | F666: LCD+Touch | G666: Black | H666: N | J666: =D666*I666 -> 0
A667: L12842 | B667: For Samsung | C667: ML-Lcd-For Samsung-B310 | D667: 0.96 | E667: High Copy | F667: LCD Only | H667: N | J667: =D667*I667 -> 0
A668: L28344 | B668: For Samsung | C668: ML-Lcd-For Samsung-C5 | D668: 20.02 | E668: hard OLED | F668: LCD+Touch | G668: Black | H668: N | J668: =D668*I668 -> 0
A669: L50598 | B669: For Samsung | C669: ML-Lcd-For Samsung-C7 | D669: 15.07 | E669: hard OLED | F669: LCD+Touch | G669: Black | H669: N | J669: =D669*I669 -> 0
A670: L33826 | B670: For Samsung | C670: ML-Lcd-For Samsung-C900 | D670: 21.56 | E670: hard OLED | F670: LCD+Touch | G670: White | H670: N | J670: =D670*I670 -> 0
A671: L35311 | B671: For Samsung | C671: ML-Lcd-For Samsung-F13 | D671: 9.4 | E671: Original Self Welded | F671: LCD+Touch with frame M13 | G671: Black | H671: N | J671: =D671*I671 -> 0
A672: L38631 | B672: For Samsung | C672: ML-Lcd-For Samsung-F62 | D672: 65.63 | E672: original change glass | F672: LCD+Touch | G672: Black | H672: N | J672: =D672*I672 -> 0
A673: L02417 | B673: For Samsung | C673: ML-Lcd-For Samsung-G313F | D673: 2.41 | E673: High Copy | F673: LCD Only | H673: N | J673: =D673*I673 -> 0
A674: L02416 | B674: For Samsung | C674: ML-Lcd-For Samsung-G313H | D674: 2.73 | E674: High Copy | F674: LCD Only | H674: N | J674: =D674*I674 -> 0
A675: L05607 | B675: For Samsung | C675: ML-Lcd-For Samsung-G350E | D675: 4.11 | E675: High Copy | F675: LCD Only | H675: N | J675: =D675*I675 -> 0
A676: L01987 | B676: For Samsung | C676: ML-Lcd-For Samsung-G355 | D676: 4.42 | E676: High Copy | F676: LCD Only | H676: N | J676: =D676*I676 -> 0
A677: L01989 | B677: For Samsung | C677: ML-Lcd-For Samsung-G360 | D677: 4.42 | E677: High Copy | F677: LCD Only | H677: N | J677: =D677*I677 -> 0
A678: L02421 | B678: For Samsung | C678: ML-Lcd-For Samsung-G388 | D678: 6.27 | E678: Original | F678: LCD Only | H678: N | J678: =D678*I678 -> 0
A679: L02422 | B679: For Samsung | C679: ML-Lcd-For Samsung-G390 | D679: 6.32 | E679: Original | F679: LCD Only | H679: N | J679: =D679*I679 -> 0
A680: L16617 | B680: For Samsung | C680: ML-Lcd-For Samsung-G525 | D680: 6.91 | E680: Original Self Welded | F680: LCD+Touch X cover 5 | G680: Black | H680: N | J680: =D680*I680 -> 0
A681: L01990 | B681: For Samsung | C681: ML-Lcd-For Samsung-G532 | D681: 3.58 | E681: High Copy | F681: LCD Only J2 Prime | H681: N | J681: =D681*I681 -> 0
A682: L01991 | B682: For Samsung | C682: ML-Lcd-For Samsung-G532 | D682: 3.66 | E682: Original | F682: LCD Only J2 Prime | H682: N | J682: =D682*I682 -> 0
A683: L48981 | B683: For Samsung | C683: ML-Lcd-For Samsung-G550 | D683: 4.11 | E683: High Copy | F683: LCD Only | H683: N | J683: =D683*I683 -> 0
A684: L11010 | B684: For Samsung | C684: ML-Lcd-For Samsung-G550 | D684: 5.48 | E684: Original | F684: LCD Only | H684: N | J684: =D684*I684 -> 0
A685: L48980 | B685: For Samsung | C685: ML-Lcd-For Samsung-G6000 | D685: 3.79 | E685: High Copy | F685: LCD Only | H685: N | J685: =D685*I685 -> 0
A686: L17585 | B686: For Samsung | C686: ML-Lcd-For Samsung-G715 | D686: 12.75 | E686: Original | F686: LCD+Touch | G686: Black | H686: N | J686: =D686*I686 -> 0
A687: L44419 | B687: For Samsung | C687: ML-Lcd-For Samsung-G736 | D687: 14.75 | E687: Original | F687: LCD+Touch | G687: Black | H687: N | J687: =D687*I687 -> 0
A688: L48979 | B688: For Samsung | C688: ML-Lcd-For Samsung-I9080 | D688: 3.32 | E688: High Copy | F688: LCD Only | H688: N | J688: =D688*I688 -> 0
A689: L08586 | B689: For Samsung | C689: ML-Lcd-For Samsung-J1 2016 | D689: 18.48 | E689: hard OLED | F689: LCD+Touch | G689: White | H689: N | J689: =D689*I689 -> 0
A690: L08583 | B690: For Samsung | C690: ML-Lcd-For Samsung-J1 2016 | D690: 18.48 | E690: hard OLED | F690: LCD+Touch | G690: Black | H690: N | J690: =D690*I690 -> 0
A691: L45975 | B691: For Samsung | C691: ML-Lcd-For Samsung-J1 2016 | D691: 5.33 | E691: OLED II | F691: LCD+Touch | G691: Gold | H691: N | J691: =D691*I691 -> 0
A692: L14605 | B692: For Samsung | C692: ML-Lcd-For Samsung-J1 2016 | D692: 5.51 | E692: OLED II | F692: LCD+Touch | G692: Black | H692: N | J692: =D692*I692 -> 0
A693: L47009 | B693: For Samsung | C693: ML-Lcd-For Samsung-J1 Ace | D693: 8.03 | E693: hard OLED | F693: LCD+Touch | G693: Black | H693: N | J693: =D693*I693 -> 0
A694: L08870 | B694: For Samsung | C694: ML-Lcd-For Samsung-J1 Ace | D694: 4.94 | E694: OLED II | F694: LCD+Touch | G694: White | H694: N | J694: =D694*I694 -> 0
A695: L08869 | B695: For Samsung | C695: ML-Lcd-For Samsung-J1 Ace | D695: 4.86 | E695: OLED II | F695: LCD+Touch | G695: Black | H695: N | J695: =D695*I695 -> 0
A696: L02418 | B696: For Samsung | C696: ML-Lcd-For Samsung-J100 | D696: 3.32 | E696: High Copy | F696: LCD Only | H696: N | J696: =D696*I696 -> 0
A697: L01994 | B697: For Samsung | C697: ML-Lcd-For Samsung-J105 | D697: 2.57 | E697: High Copy | F697: LCD Only J106/J1 Mini Prime | H697: N | J697: =D697*I697 -> 0
A698: L08591 | B698: For Samsung | C698: ML-Lcd-For Samsung-J2 | D698: 15.86 | E698: hard OLED | F698: LCD+Touch Small Size | G698: Black | H698: N | J698: =D698*I698 -> 0
A699: L08829 | B699: For Samsung | C699: ML-Lcd-For Samsung-J2 | D699: 4.66 | E699: OLED II | F699: LCD+Touch | G699: Gold | H699: N | J699: =D699*I699 -> 0
A700: L08828 | B700: For Samsung | C700: ML-Lcd-For Samsung-J2 | D700: 4.42 | E700: OLED II | F700: LCD+Touch | G700: White | H700: N | J700: =D700*I700 -> 0
A701: L08826 | B701: For Samsung | C701: ML-Lcd-For Samsung-J2 | D701: 4.88 | E701: OLED II | F701: LCD+Touch | G701: Black | H701: N | J701: =D701*I701 -> 0
A702: L08993 | B702: For Samsung | C702: ML-Lcd-For Samsung-J2 Pro | D702: 15.86 | E702: hard OLED | F702: LCD+Touch J250 | G702: White Blue | H702: N | J702: =D702*I702 -> 0
A703: L08990 | B703: For Samsung | C703: ML-Lcd-For Samsung-J2 Pro | D703: 15.22 | E703: hard OLED | F703: LCD+Touch J250 | G703: Gold | H703: N | J703: =D703*I703 -> 0
A704: L08988 | B704: For Samsung | C704: ML-Lcd-For Samsung-J2 Pro | D704: 16.34 | E704: hard OLED | F704: LCD+Touch J250 | G704: Black | H704: N | J704: =D704*I704 -> 0
A705: L28128 | B705: For Samsung | C705: ML-Lcd-For Samsung-J2 Pro | D705: 8.8 | E705: INCELL | F705: LCD+Touch | G705: Black | H705: N | J705: =D705*I705 -> 0
A706: L01705 | B706: For Samsung | C706: ML-Lcd-For Samsung-J2 Pro | D706: 7.05 | E706: INCELL | F706: LCD+Touch | G706: White Blue | H706: N | J706: =D706*I706 -> 0
A707: L08853 | B707: For Samsung | C707: ML-Lcd-For Samsung-J2 Pro | D707: 4.27 | E707: OLED II | F707: LCD+Touch J250 | G707: Gold | H707: N | J707: =D707*I707 -> 0
A708: L08852 | B708: For Samsung | C708: ML-Lcd-For Samsung-J2 Pro | D708: 4.58 | E708: OLED II | F708: LCD+Touch J250 | G708: White Blue | H708: N | J708: =D708*I708 -> 0
...

Sheet Xiaomi&Redmi
A1: Xiaomi&Redmi-LCD
I2: Total(USD)： | J2: =SUM(J4:J679) -> 0
A3: Code | B3: Brand | C3: Model | D3: Unit Price (USD) | E3: Quality | F3: Description | G3: Color | H3: With logo (Y/N) | I3: Qty (PCS) | J3: Amount (USD)
A4: L47910 | B4: For Redmi | C4: ML-Lcd-For Redmi-10 | D4: 8.93 | E4: INCELL | F4: LCD+Touch with frame | G4: Black | H4: N | J4: =D4*I4 -> 0
A5: L39256 | B5: For Redmi | C5: ML-Lcd-For Redmi-10 | D5: 15.4 | E5: Original | F5: LCD+Touch with frame | G5: Black | H5: N | J5: =D5*I5 -> 0
A6: L18908 | B6: For Redmi | C6: ML-Lcd-For Redmi-10 | D6: 9.92 | E6: Original Self Welded | F6: LCD+Touch with frame | G6: Black | H6: N | J6: =D6*I6 -> 0
A7: L46771 | B7: For Redmi | C7: ML-Lcd-For Redmi-10 2022 | D7: 8.93 | E7: 1:1 Original | F7: LCD+Touch with frame | G7: Black | H7: N | J7: =D7*I7 -> 0
A8: L35664 | B8: For Redmi | C8: ML-Lcd-For Redmi-10 2022 | D8: 9.76 | E8: Original Self Welded | F8: LCD+Touch with frame | G8: Black | H8: N | J8: =D8*I8 -> 0
A9: L19131 | B9: For Redmi | C9: ML-Lcd-For Redmi-10 4G | D9: 6.75 | E9: 1:1 Original | F9: LCD+Touch | G9: Black | H9: N | J9: =D9*I9 -> 0
A10: L18405 | B10: For Redmi | C10: ML-Lcd-For Redmi-10 4G | D10: 7.87 | E10: Original Self Welded | F10: LCD+Touch Redmi 10 2022/Redmi 10 Prime | G10: Black | H10: N | J10: =D10*I10 -> 0
A11: L49420 | B11: For Redmi | C11: ML-Lcd-For Redmi-10 5G | D11: 8.48 | E11: 1:1 Original | F11: LCD+Touch with frame | G11: Black | H11: N | J11: =D11*I11 -> 0
A12: L41356 | B12: For Redmi | C12: ML-Lcd-For Redmi-10 5G | D12: 8.48 | E12: INCELL | F12: LCD+Touch with frame Note 11E/Poco M4 | G12: Black | H12: N | J12: =D12*I12 -> 0
A13: L34555 | B13: For Redmi | C13: ML-Lcd-For Redmi-10 5G | D13: 9.44 | E13: Original Self Welded | F13: LCD+Touch with frame Note 11E/Poco M4 | G13: Black | H13: N | J13: =D13*I13 -> 0
A14: L49423 | B14: For Redmi | C14: ML-Lcd-For Redmi-10C | D14: 6.42 | E14: 1:1 Original | F14: LCD+Touch with frame | G14: Black | H14: N | J14: =D14*I14 -> 0
A15: L39226 | B15: For Redmi | C15: ML-Lcd-For Redmi-10C | D15: 5.51 | E15: 1:1 Original | F15: LCD+Touch Poco C40/Redmi 10 Power | G15: Black | H15: N | J15: =D15*I15 -> 0
... A162: L19133 | B162: For Redmi | C162: ML-Lcd-For Redmi-Note 10 Pro 5G | D162: 8.03 | E162: Original Self Welded | F162: LCD+Touch X3 GT | G162: Black | H162: N | J162: =D162*I162 -> 0
A163: L50259 | B163: For Redmi | C163: ML-Lcd-For Redmi-Note 11 4G | D163: 22.33 | F163: LCD+Touch with frame Poco M4 Pro 4G BD Factory | G163: Black | H163: N | J163: =D163*I163 -> 0
A164: L46145 | B164: For Redmi | C164: ML-Lcd-For Redmi-Note 11 4G | D164: 20.54 | E164: hard OLED | F164: LCD+Touch Note 11s/Poco M4 Pro 4G/Note 12S | G164: Black | H164: N | J164: =D164*I164 -> 0
A165: L45912 | B165: For Redmi | C165: ML-Lcd-For Redmi-Note 11 4G | D165: 19.86 | E165: hard OLED | F165: LCD+Touch Small Size Note 11s/Poco M4 Pro 4G/Note 12S | G165: Black | H165: N | J165: =D165*I165 -> 0
A166: L45906 | B166: For Redmi | C166: ML-Lcd-For Redmi-Note 11 4G | D166: 51.58 | E166: hard OLED | F166: LCD+Touch with frame Small Size Poco M4 Pro 4G | G166: Black | H166: N | J166: =D166*I166 -> 0
A167: L29312 | B167: For Redmi | C167: ML-Lcd-For Redmi-Note 11 4G | D167: 22.03 | E167: hard OLED | F167: LCD+Touch with frame Poco M4 Pro 4G | G167: Black | H167: N | J167: =D167*I167 -> 0
A168: L23458 | B168: For Redmi | C168: ML-Lcd-For Redmi-Note 11 4G | D168: 21.24 | E168: hard OLED | F168: LCD+Touch Note 11S/Poco M4 Pro 4G/Note 12S BD | G168: Black | H168: N | J168: =D168*I168 -> 0
A169: L49789 | B169: For Redmi | C169: ML-Lcd-For Redmi-Note 11 4G | D169: 13.67 | E169: INCELL | F169: LCD+Touch with frame(with glue, flex, speaker, vibrator )high light T2O Poco M4 Pro 4G | G169: Black | H169: N | J169: =D169*I169 -> 0
A170: L46842 | B170: For Redmi | C170: ML-Lcd-For Redmi-Note 11 4G | D170: 7.87 | E170: INCELL | F170: LCD+Touch A with frame Poco M4 Pro 4G | G170: Black | H170: N | J170: =D170*I170 -> 0
A171: L43788 | B171: For Redmi | C171: ML-Lcd-For Redmi-Note 11 4G | D171: 6.51 | E171: INCELL | F171: LCD+Touch A Note 11s/Poco M4 Pro 4G/Note 12S | G171: Black | H171: N | J171: =D171*I171 -> 0
A172: L42798 | B172: For Redmi | C172: ML-Lcd-For Redmi-Note 11 4G | D172: 10.4 | E172: INCELL | F172: LCD+Touch high light T2O Note 11s/Poco M4 Pro 4G/Note 12S | G172: Black | H172: N | J172: =D172*I172 -> 0
A173: L42663 | B173: For Redmi | C173: ML-Lcd-For Redmi-Note 11 4G | D173: 12.11 | E173: INCELL | F173: LCD+Touch with frame high light T2O | G173: Black | H173: N | J173: =D173*I173 -> 0
A174: L42650 | B174: For Redmi | C174: ML-Lcd-For Redmi-Note 11 4G | D174: 12.11 | E174: INCELL | F174: LCD+Touch with frame high light T2O Poco M4 Pro 4G | G174: Black | H174: N | J174: =D174*I174 -> 0
A175: L28260 | B175: For Redmi | C175: ML-Lcd-For Redmi-Note 11 4G | D175: 8.96 | E175: INCELL | F175: LCD+Touch AAA with frame Poco M4 Pro 4G | G175: Black | H175: N | J175: =D175*I175 -> 0
... A428: L44585 | B428: For Xiaomi | C428: ML-Lcd-For Xiaomi-Mi 10 Lite | D428: 35.11 | E428: original change glass | F428: LCD+Touch with frame | G428: Black | H428: N | J428: =D428*I428 -> 0
A429: L50454 | B429: For Xiaomi | C429: ML-Lcd-For Xiaomi-Mi 10 Pro | D429: 57.24 | F429: LCD+Touch Small Size | G429: Black | H429: N | J429: =D429*I429 -> 0
A430: L48637 | B430: For Xiaomi | C430: ML-Lcd-For Xiaomi-Mi 10 Ultra | D430: 53.42 | E430: Original | F430: LCD+Touch | G430: Black | H430: N | J430: =D430*I430 -> 0
A431: L48642 | B431: For Xiaomi | C431: ML-Lcd-For Xiaomi-Mi 10i 5G | D431: 13.98 | E431: Original | F431: LCD+Touch | G431: Black | H431: N | J431: =D431*I431 -> 0
A432: L32512 | B432: For Xiaomi | C432: ML-Lcd-For Xiaomi-Mi 10T 5G | D432: 9.28 | E432: Original Self Welded | F432: LCD+Touch Mi 10T Pro/K30s | G432: Black | H432: N | J432: =D432*I432 -> 0
A433: L21069 | B433: For Xiaomi | C433: ML-Lcd-For Xiaomi-Mi 10T 5G | D433: 19.25 | E433: Original Self Welded | F433: LCD+Touch with frame Mi 10T Pro K30s | G433: Black | H433: N | J433: =D433*I433 -> 0
A434: L13483 | B434: For Xiaomi | C434: ML-Lcd-For Xiaomi-Mi 10T 5G | D434: 20.79 | E434: Original Self Welded | F434: LCD+Touch with frame Mi 10T Pro/K30s | G434: Sliver | H434: N | J434: =D434*I434 -> 0
A435: L26357 | B435: For Xiaomi | C435: ML-Lcd-For Xiaomi-Mi 10T Lite | D435: 21.25 | E435: Original Self Welded | F435: LCD+Touch with frame Note 9 Pro 5G | G435: Black | H435: N | J435: =D435*I435 -> 0
A436: L17754 | B436: For Xiaomi | C436: ML-Lcd-For Xiaomi-Mi 10T Lite | D436: 21.25 | E436: Original Self Welded | F436: LCD+Touch with frame Note 9 Pro 5G | G436: Blue | H436: N | J436: =D436*I436 -> 0
A437: L17753 | B437: For Xiaomi | C437: ML-Lcd-For Xiaomi-Mi 10T Lite | D437: 21.25 | E437: Original Self Welded | F437: LCD+Touch with frame Note 9 Pro 5G | G437: Gold | H437: N | J437: =D437*I437 -> 0
A438: L16350 | B438: For Xiaomi | C438: ML-Lcd-For Xiaomi-Mi 10T Lite | D438: 21.25 | E438: Original Self Welded | F438: LCD+Touch with frame Note 9 Pro 5G | G438: Grey | H438: N | J438: =D438*I438 -> 0
A439: L49868 | B439: For Xiaomi | C439: ML-Lcd-For Xiaomi-Mi 11 5G | D439: 21.24 | E439: INCELL | F439: LCD+Touch | G439: Black | H439: N | J439: =D439*I439 -> 0
A440: L22885 | B440: For Xiaomi | C440: ML-Lcd-For Xiaomi-Mi 11 5G | D440: 107.42 | E440: Original | F440: LCD+Touch with frame | G440: Black | H440: N | J440: =D440*I440 -> 0
A441: L03840 | B441: For Xiaomi | C441: ML-Lcd-For Xiaomi-Mi 11 5G | D441: 70.21 | E441: Original | F441: LCD+Touch | G441: Black | H441: N | J441: =D441*I441 -> 0
... A494: L33827 | B494: For Xiaomi | C494: ML-Lcd-For Xiaomi-Mi 13 Lite | D494: 30.29 | E494: Original | F494: LCD+Touch Civi 2 | G494: Black | H494: N | J494: =D494*I494 -> 0
A495: L50026 | B495: For Xiaomi | C495: ML-Lcd-For Xiaomi-MI 13 Pro | D495: 69.45 | F495: LCD+Touch with frame | G495: Black | H495: N | J495: =D495*I495 -> 0
A496: L45997 | B496: For Xiaomi | C496: ML-Lcd-For Xiaomi-MI 13 Pro | D496: 17.45 | E496: INCELL | F496: LCD+Touch | G496: Black | H496: N | J496: =D496*I496 -> 0
A497: L38744 | B497: For Xiaomi | C497: ML-Lcd-For Xiaomi-MI 13 Pro | D497: 130.29 | E497: Original | F497: LCD+Touch with frame | G497: Black | H497: N | J497: =D497*I497 -> 0
A498: L49207 | B498: For Xiaomi | C498: ML-Lcd-For Xiaomi-MI 13 Ultra | D498: 99.86 | E498: Original | F498: LCD+Touch | G498: Black | H498: N | J498: =D498*I498 -> 0
A499: L39241 | B499: For Xiaomi | C499: ML-Lcd-For Xiaomi-MI 13 Ultra | D499: 121.04 | E499: original change glass | F499: LCD+Touch with frame | G499: Green | H499: N | J499: =D499*I499 -> 0
A500: L39240 | B500: For Xiaomi | C500: ML-Lcd-For Xiaomi-MI 13 Ultra | D500: 123.51 | E500: original change glass | F500: LCD+Touch with frame | G500: White | H500: N | J500: =D500*I500 -> 0
A501: L39239 | B501: For Xiaomi | C501: ML-Lcd-For Xiaomi-MI 13 Ultra | D501: 122.76 | E501: original change glass | F501: LCD+Touch with frame | G501: Black | H501: N | J501: =D501*I501 -> 0
A502: L43323 | B502: For Xiaomi | C502: ML-Lcd-For Xiaomi-MI 13T | D502: 16.98 | E502: INCELL | F502: LCD+Touch with frame | G502: Black | H502: N | J502: =D502*I502 -> 0
A503: L42836 | B503: For Xiaomi | C503: ML-Lcd-For Xiaomi-MI 13T | D503: 9.12 | E503: INCELL | F503: LCD+Touch Mi 13T Pro | G503: Black | H503: N | J503: =D503*I503 -> 0
A504: L39499 | B504: For Xiaomi | C504: ML-Lcd-For Xiaomi-MI 13T | D504: 30.29 | E504: Original | F504: LCD+Touch with frame Mi 13T Pro | G504: Silver | H504: N | J504: =D504*I504 -> 0
A505: L39220 | B505: For Xiaomi | C505: ML-Lcd-For Xiaomi-MI 13T | D505: 30.29 | E505: Original | F505: LCD+Touch with frame Mi 13T Pro | G505: Green | H505: N | J505: =D505*I505 -> 0
A506: L39219 | B506: For Xiaomi | C506: ML-Lcd-For Xiaomi-MI 13T | D506: 30.29 | E506: Original | F506: LCD+Touch with frame Mi 13T Pro | G506: Blue | H506: N | J506: =D506*I506 -> 0
A507: L39156 | B507: For Xiaomi | C507: ML-Lcd-For Xiaomi-MI 13T | D507: 30.29 | E507: Original | F507: LCD+Touch with frame Mi 13T Pro | G507: Black | H507: N | J507: =D507*I507 -> 0
... A679: L41931 | B679: For Xiaomi | C679: TL-Lcd-For Xiaomi-Pad SE | D679: 23.1 | E679: Original | F679: LCD+Touch | G679: Black | H679: N | J679: =D679*I679 -> 0

Sheet OPPO&VIVO&Realme
A1: OPPO&VIVO-LCD
I2: Total(USD)： | J2: =SUM(J4:J976) -> 0
A3: Code | B3: Brand | C3: Model | D3: Unit Price (USD) | E3: Quality | F3: Description | G3: Color | H3: With logo (Y/N) | I3: Qty (PCS) | J3: Amount (USD)
A4: L49134 | B4: For Oppo | C4: ML-Lcd-For Oppo-A1 Pro | D4: 29.26 | E4: soft OLED | F4: LCD+Touch | G4: Black | H4: N | J4: =D4*I4 -> 0
A5: L49462 | B5: For Oppo | C5: ML-Lcd-For Oppo-A12 | D5: 7.05 | E5: High Copy | F5: LCD+Touch with frame | G5: Black | H5: N | J5: =D5*I5 -> 0
A6: L31220 | B6: For Oppo | C6: ML-Lcd-For Oppo-A12 | D6: 8.62 | E6: Original Self Welded | F6: LCD+Touch with frame | G6: Black | H6: N | J6: =D6*I6 -> 0
A7: L43796 | B7: For Oppo | C7: ML-Lcd-For Oppo-A15 | D7: 5.18 | E7: 1:1 Original | F7: LCD+Touch C11 2020/C12/C15/A35/Realme Q2i/Realme V3/A15S/Narzo 30A/A15/Narzo 20/A16K | G7: Black | H7: N | J7: =D7*I7 -> 0
A8: L41274 | B8: For Oppo | C8: ML-Lcd-For Oppo-A15 | D8: 7.52 | E8: High Copy | F8: LCD+Touch with frame | G8: Black | H8: N | J8: =D8*I8 -> 0
A9: L19188 | B9: For Oppo | C9: ML-Lcd-For Oppo-A15 | D9: 6.75 | E9: Original | F9: LCD+Touch A15 2020/C11/C12/C15(low configuration)/A15s/A16k/A35/Realme V3/Realme Q2i/Narzo 20/Narzo 30A | G9: Black | H9: N | J9: =D9*I9 -> 0
A10: L15563 | B10: For Oppo | C10: ML-Lcd-For Oppo-A15 | D10: 8.8 | E10: Original Self Welded | F10: LCD+Touch with frame | G10: Black | H10: N | J10: =D10*I10 -> 0
A11: L13267 | B11: For Oppo | C11: ML-Lcd-For Oppo-A15 | D11: 6.16 | E11: Original Self Welded | F11: LCD+Touch A15 2020/C11/C12/C15(low configuration)/A15s/A16k/A35/Realme V3/Realme Q2i/Narzo 20/Narzo 30A | G11: Black | H11: N | J11: =D11*I11 -> 0
A12: L43797 | B12: For Oppo | C12: ML-Lcd-For Oppo-A16 | D12: 5.26 | E12: 1:1 Original | F12: LCD+Touch A16 2020/A16s/A54s/A56 4g/Realme C25/Realme C25s/Narzo 50A | G12: Black | H12: N | J12: =D12*I12 -> 0
A13: L41275 | B13: For Oppo | C13: ML-Lcd-For Oppo-A16 | D13: 5.8 | E13: High Copy | F13: LCD+Touch with frame | G13: Black | H13: N | J13: =D13*I13 -> 0
A14: L19189 | B14: For Oppo | C14: ML-Lcd-For Oppo-A16 | D14: 6.75 | E14: Original | F14: LCD+Touch A16 2020/A16s/A54s/A56 4G/Realme C25/Realme C25s/Narzo 50A | G14: Black | H14: N | J14: =D14*I14 -> 0
A15: L24650 | B15: For Oppo | C15: ML-Lcd-For Oppo-A16 | D15: 8.8 | E15: Original Self Welded | F15: LCD+Touch with frame | G15: Black | H15: N | J15: =D15*I15 -> 0
... A442: L44385 | B442: For Realme | C442: ML-Lcd-For Realme-3 Pro | D442: 5.56 | E442: 1:1 Original | F442: LCD+Touch Realme X Youth | G442: Black | H442: N | J442: =D442*I442 -> 0
A443: L18735 | B443: For Realme | C443: ML-Lcd-For Realme-3 Pro | D443: 6.58 | E443: Original Self Welded | F443: LCD+Touch | H443: N | J443: =D443*I443 -> 0
A444: L49451 | B444: For Realme | C444: ML-Lcd-For Realme-5 | D444: 7.52 | E444: High Copy | F444: LCD+Touch with frame | G444: Black | H444: N | J444: =D444*I444 -> 0
A445: L37923 | B445: For Realme | C445: ML-Lcd-For Realme-5 | D445: 9.44 | E445: Original Self Welded | F445: LCD+Touch with frame | G445: Black | H445: N | J445: =D445*I445 -> 0
A446: L44386 | B446: For Realme | C446: ML-Lcd-For Realme-5 Pro | D446: 5.48 | E446: 1:1 Original | F446: LCD+Touch Realme Q | G446: Black | H446: N | J446: =D446*I446 -> 0
A447: L30315 | B447: For Realme | C447: ML-Lcd-For Realme-5 Pro | D447: 7.05 | E447: Original | F447: LCD+Touch | G447: Black | H447: N | J447: =D447*I447 -> 0
A448: L35269 | B448: For Realme | C448: ML-Lcd-For Realme-5 Pro | D448: 9.09 | E448: Original Self Welded | F448: LCD+Touch with frame | G448: Black | H448: N | J448: =D448*I448 -> 0
A449: L14422 | B449: For Realme | C449: ML-Lcd-For Realme-5 Pro | D449: 6.27 | E449: Original Self Welded | F449: LCD+Touch | G449: Black | H449: N | J449: =D449*I449 -> 0
A450: L42632 | B450: For Realme | C450: ML-Lcd-For Realme-6 | D450: 6.59 | E450: 1:1 Original | F450: LCD+Touch Realme 6/Realme 6s/Realme 6i(India)/Realme7 4G/Realme Narzo 20 Pro/Realme Narzo 30 4G | G450: Black | H450: N | J450: =D450*I450 -> 0
A451: L19209 | B451: For Realme | C451: ML-Lcd-For Realme-6 | D451: 8.8 | E451: Original | F451: LCD+Touch Realme 7/Realme 6S | G451: Black | H451: N | J451: =D451*I451 -> 0
A452: L17737 | B452: For Realme | C452: ML-Lcd-For Realme-6 | D452: 9.6 | E452: Original Self Welded | F452: LCD+Touch with frame | G452: Black | H452: N | J452: =D452*I452 -> 0
A453: L16417 | B453: For Realme | C453: ML-Lcd-For Realme-6 | D453: 7.55 | E453: Original Self Welded | F453: LCD+Touch Realme7 4G/Realme 6S | G453: Black | H453: N | J453: =D453*I453 -> 0
A454: L26386 | B454: For Realme | C454: ML-Lcd-For Realme-6 Pro | D454: 15.55 | E454: Original Self Welded | F454: LCD+Touch with frame | G454: Black | H454: N | J454: =D454*I454 -> 0
A455: L24052 | B455: For Realme | C455: ML-Lcd-For Realme-6i | D455: 7.55 | E455: Original Self Welded | F455: LCD+Touch Narzo 20 Pro/Narzo 30 4G/Realme 6i(India) | G455: Black | H455: N | J455: =D455*I455 -> 0
... A624: L50924 | B624: For Realme | C624: ML-Lcd-For Realme-C75 | D624: 13.22 | E624: Original | F624: Lcd+touch | G624: Black | H624: N | J624: =D624*I624 -> 0
A625: L50313 | B625: For Realme | C625: ML-Lcd-For Realme-GT 2 | D625: 37.4 | F625: LCD+Touch | G625: Black | H625: N | J625: =D625*I625 -> 0
A626: L29296 | B626: For Realme | C626: ML-Lcd-For Realme-GT 2 | D626: 27.72 | E626: INCELL | F626: LCD+Touch with frame | G626: Black | H626: N | J626: =D626*I626 -> 0
A627: L29294 | B627: For Realme | C627: ML-Lcd-For Realme-GT 2 | D627: 9.4 | E627: INCELL | F627: LCD+Touch Realme Q5 Pro/K10 Pro 5G/Reno 8 Pro(PGAM10)/Realme GT Neo 3T/Realme GT Neo 2 | G627: Black | H627: N | J627: =D627*I627 -> 0
A628: L43780 | B628: For Realme | C628: ML-Lcd-For Realme-GT 2 | D628: 35.87 | E628: new Original | F628: LCD+Touch | G628: Black | H628: N | J628: =D628*I628 -> 0
A629: L24051 | B629: For Realme | C629: ML-Lcd-For Realme-GT 2 | D629: 53.42 | E629: original change glass | F629: LCD+Touch | G629: Black | H629: N | J629: =D629*I629 -> 0
A630: L45405 | B630: For Realme | C630: ML-Lcd-For Realme-GT 2 Pro | D630: 12.43 | E630: INCELL | F630: LCD+Touch | G630: Black | H630: N | J630: =D630*I630 -> 0
A631: L28599 | B631: For Realme | C631: ML-Lcd-For Realme-GT 2 Pro | D631: 105.91 | E631: new Original | F631: LCD+Touch | G631: Black | H631: N | J631: =D631*I631 -> 0
A632: L40521 | B632: For Realme | C632: ML-Lcd-For Realme-GT 2 Pro | D632: 114.99 | E632: original change glass | F632: LCD+Touch | G632: Black | H632: N | J632: =D632*I632 -> 0
A633: L47996 | B633: For Realme | C633: ML-Lcd-For Realme-GT 3 | D633: 39.68 | E633: new Original | F633: LCD+Touch Realme GT3 | G633: Black | H633: N | J633: =D633*I633 -> 0
A634: L43659 | B634: For Realme | C634: ML-Lcd-For Realme-GT 5 | D634: 9.71 | E634: INCELL | F634: LCD+Touch | G634: Black | H634: N | J634: =D634*I634 -> 0
A635: L43658 | B635: For Realme | C635: ML-Lcd-For Realme-GT 5 | D635: 39.68 | E635: new Original | F635: LCD+Touch | G635: Black | H635: N | J635: =D635*I635 -> 0
A636: L43657 | B636: For Realme | C636: ML-Lcd-For Realme-GT 5 Pro | D636: 95.32 | E636: new Original | F636: LCD+Touch | G636: Black | H636: N | J636: =D636*I636 -> 0
A637: L49146 | B637: For Realme | C637: ML-Lcd-For Realme-GT 5 Pro | D637: 67.16 | E637: soft OLED | F637: LCD+Touch | G637: Black | H637: N | J637: =D637*I637 -> 0
... A976: L40825 | B976: For Vivo | C976: ML-Lcd-For Vivo-Z1 Pro | D976: 6.58 | E976: Original Self Welded | F976: LCD+Touch Z5X | G976: Black | H976: N | J976: =D976*I976 -> 0

Sheet MOTO LCD
A1: MOTO-LCD
I2: Total(USD)： | J2: =SUM(J4:J317) -> 0
A3: Code | B3: Brand | C3: Model | D3: Unit Price (USD) | E3: Quality | F3: Description | G3: Color | H3: With logo (Y/N) | I3: Qty (PCS) | J3: Amount (USD)
A4: L22394 | B4: For Motorola | C4: ML-Lcd-For Motorola-C | D4: 4.75 | E4: High Copy | F4: LCD Only | H4: N | J4: =D4*I4 -> 0
A5: L08757 | B5: For Motorola | C5: ML-Lcd-For Motorola-C | D5: 5.06 | E5: High Copy | F5: LCD+Touch | G5: Gold | H5: N | J5: =D5*I5 -> 0
A6: L08756 | B6: For Motorola | C6: ML-Lcd-For Motorola-C | D6: 5.06 | E6: High Copy | F6: LCD+Touch | G6: Black | H6: N | J6: =D6*I6 -> 0
A7: L11673 | B7: For Motorola | C7: ML-Lcd-For Motorola-C Plus | D7: 5.38 | E7: High Copy | F7: LCD+Touch | G7: Black | H7: N | J7: =D7*I7 -> 0
A8: L11672 | B8: For Motorola | C8: ML-Lcd-For Motorola-C Plus | D8: 5.38 | E8: High Copy | F8: LCD+Touch | G8: Gold | H8: N | J8: =D8*I8 -> 0
A9: L19526 | B9: For Motorola | C9: ML-Lcd-For Motorola-Defy 2021 | D9: 10.6 | E9: Original Self Welded | F9: LCD+Touch | G9: Black | H9: N | J9: =D9*I9 -> 0
A10: L50912 | B10: For Motorola | C10: ML-Lcd-For Motorola-E13 | D10: 7.95 | E10: High Copy | F10: Lcd+touch with frame（with speaker，vibrator ） | G10: Black | H10: N | J10: =D10*I10 -> 0
A11: L46733 | B11: For Motorola | C11: ML-Lcd-For Motorola-E13 | D11: 7.14 | E11: High Copy | F11: LCD+Touch with frame XT2345-2 | G11: Black | H11: N | J11: =D11*I11 -> 0
A12: L46037 | B12: For Motorola | C12: ML-Lcd-For Motorola-E13 | D12: 5.48 | E12: High Copy | F12: LCD+Touch XT2345-2 | G12: Black | H12: N | J12: =D12*I12 -> 0
A13: L34577 | B13: For Motorola | C13: ML-Lcd-For Motorola-E20 | D13: 6.65 | E13: High Copy | F13: LCD+Touch with frame | G13: Black | H13: N | J13: =D13*I13 -> 0
A14: L31252 | B14: For Motorola | C14: ML-Lcd-For Motorola-E20 | D14: 5.4 | E14: High Copy | F14: LCD+Touch XT2155/K14 | G14: Black | H14: N | J14: =D14*I14 -> 0
A15: L50028 | B15: For Motorola | C15: ML-Lcd-For Motorola-E20 | D15: 8.4 | E15: Original Self Welded | F15: LCD+Touch with frame（with speaker，vibrator ） | G15: Black | H15: N | J15: =D15*I15 -> 0
A16: L21586 | B16: For Motorola | C16: ML-Lcd-For Motorola-E20 | D16: 7.3 | E16: Original Self Welded | F16: LCD+Touch with frame | G16: Black | H16: N | J16: =D16*I16 -> 0
... A157: L04722 | B157: For Motorola | C157: ML-Lcd-For Motorola-G3 | D157: 6.01 | E157: High Copy | F157: LCD+Touch XT1541 | G157: Black | H157: N | J157: =D157*I157 -> 0
A158: L50035 | B158: For Motorola | C158: ML-Lcd-For Motorola-G31 | D158: 22.08 | F158: LCD+Touch with frame（with speaker，vibrator ） | G158: Black | H158: N | J158: =D158*I158 -> 0
A159: L25532 | B159: For Motorola | C159: ML-Lcd-For Motorola-G31 | D159: 19.95 | E159: hard OLED | F159: LCD+Touch G41 G71 | G159: Black | H159: N | J159: =D159*I159 -> 0
A160: L23420 | B160: For Motorola | C160: ML-Lcd-For Motorola-G31 | D160: 20.99 | E160: hard OLED | F160: LCD+Touch with frame | G160: Black | H160: N | J160: =D160*I160 -> 0
A161: L49809 | B161: For Motorola | C161: ML-Lcd-For Motorola-G31 | D161: 11.45 | E161: INCELL | F161: LCD+Touch with frame high light T2O 6.4" | G161: Black | H161: N | J161: =D161*I161 -> 0
A162: L49762 | B162: For Motorola | C162: ML-Lcd-For Motorola-G31 | D162: 13.02 | E162: INCELL | F162: LCD+Touch with frame(with glue, flex, speaker, vibrator )high light T2O 6.4" | G162: Black | H162: N | J162: =D162*I162 -> 0
A163: L46827 | B163: For Motorola | C163: ML-Lcd-For Motorola-G31 | D163: 6.05 | E163: INCELL | F163: LCD+Touch G41/G71 | G163: Black | H163: N | J163: =D163*I163 -> 0
A164: L42912 | B164: For Motorola | C164: ML-Lcd-For Motorola-G31 | D164: 8.24 | E164: INCELL | F164: LCD+Touch with frame | G164: Black | H164: N | J164: =D164*I164 -> 0
A165: L42696 | B165: For Motorola | C165: ML-Lcd-For Motorola-G32 | D165: 9.02 | E165: High Copy | F165: LCD+Touch with frame XT2235-1 | G165: Black | H165: N | J165: =D165*I165 -> 0
A166: L41131 | B166: For Motorola | C166: ML-Lcd-For Motorola-G32 | D166: 7.3 | E166: High Copy | F166: LCD+Touch G73/T2235-1 | G166: Black | H166: N | J166: =D166*I166 -> 0
A167: L33139 | B167: For Motorola | C167: ML-Lcd-For Motorola-G32 | D167: 10.99 | E167: Original Self Welded | F167: LCD+Touch with frame XT2235-1 | G167: Black | H167: N | J167: =D167*I167 -> 0
A168: L26721 | B168: For Motorola | C168: ML-Lcd-For Motorola-G32 | D168: 8.89 | E168: Original Self Welded | F168: LCD+Touch G73/T2235-1 | G168: Black | H168: N | J168: =D168*I168 -> 0
A169: L44590 | B169: For Motorola | C169: ML-Lcd-For Motorola-G34 | D169: 5.81 | E169: High Copy | F169: LCD+Touch | G169: Black | H169: N | J169: =D169*I169 -> 0
A170: L43344 | B170: For Motorola | C170: ML-Lcd-For Motorola-G34 | D170: 9.49 | E170: Original Self Welded | F170: LCD+Touch with frame | G170: Black | H170: N | J170: =D170*I170 -> 0
... A247: L01495 | B247: For Motorola | C247: ML-Lcd-For Motorola-G7 Power | D247: 5.73 | E247: Original Self Welded | F247: LCD+Touch G7 Supra/XT1955 | G247: Black | H247: N | J247: =D247*I247 -> 0
A248: L50038 | B248: For Motorola | C248: ML-Lcd-For Motorola-G71 | D248: 22.08 | F248: LCD+Touch with frame（with speaker，vibrator ） | G248: Black | H248: N | J248: =D248*I248 -> 0
A249: L23419 | B249: For Motorola | C249: ML-Lcd-For Motorola-G71 | D249: 21.61 | E249: hard OLED | F249: LCD+Touch with frame | G249: Black | H249: N | J249: =D249*I249 -> 0
A250: L49807 | B250: For Motorola | C250: ML-Lcd-For Motorola-G71 | D250: 11.45 | E250: INCELL | F250: LCD+Touch with frame high light T2O 6.4" | G250: Black | H250: N | J250: =D250*I250 -> 0
A251: L49765 | B251: For Motorola | C251: ML-Lcd-For Motorola-G71 | D251: 13.33 | E251: INCELL | F251: LCD+Touch with frame(with glue, flex, speaker, vibrator )high light T2O 6.4" | G251: Black | H251: N | J251: =D251*I251 -> 0
A252: L50039 | B252: For Motorola | C252: ML-Lcd-For Motorola-G72 | D252: 33.92 | E252: Original | F252: LCD+Touch with frame（with speaker，vibrator ） | G252: Black | H252: N | J252: =D252*I252 -> 0
A253: L41681 | B253: For Motorola | C253: ML-Lcd-For Motorola-G72 | D253: 34.2 | E253: Original | F253: LCD+Touch with frame | G253: Black | H253: N | J253: =D253*I253 -> 0
A254: L02306 | B254: For Motorola | C254: ML-Lcd-For Motorola-G72 | D254: 31.37 | E254: Original | F254: LCD+Touch G52/G82/G71s | G254: Black | H254: N | J254: =D254*I254 -> 0
A255: L36148 | B255: For Motorola | C255: ML-Lcd-For Motorola-G73 | D255: 10.98 | E255: Original Self Welded | F255: LCD+Touch with frame | G255: Black | H255: N | J255: =D255*I255 -> 0
A256: L50225 | B256: For Motorola | C256: ML-Lcd-For Motorola-G75 | D256: 16.5 | E256: Original Self Welded | F256: LCD+Touch | G256: Black | H256: N | J256: =D256*I256 -> 0
A257: L33218 | B257: For Motorola | C257: ML-Lcd-For Motorola-G8 | D257: 7.12 | E257: High Copy | F257: LCD+Touch with frame | G257: Black | H257: N | J257: =D257*I257 -> 0
A258: L32736 | B258: For Motorola | C258: ML-Lcd-For Motorola-G8 | D258: 5.89 | E258: High Copy | F258: LCD+Touch | G258: Black | H258: N | J258: =D258*I258 -> 0
A259: L31010 | B259: For Motorola | C259: ML-Lcd-For Motorola-G8 Play | D259: 5.24 | E259: High Copy | F259: LCD+Touch | G259: Black | H259: N | J259: =D259*I259 -> 0
A260: L27011 | B260: For Motorola | C260: ML-Lcd-For Motorola-G8 Play | D260: 9.97 | E260: High Copy | F260: LCD+Touch with frame | G260: Black | H260: N | J260: =D260*I260 -> 0
... A317: L01532 | B317: For Motorola | C317: ML-Lcd-For Motorola-Z4 | D317: 19.44 | E317: Original Self Welded | F317: LCD+Touch | G317: Black | H317: N | J317: =D317*I317 -> 0

Sheet One plus
A1: Oneplus-LCD
I2: Total(USD)： | J2: =SUM(J4:J136) -> 0
A3: Code | B3: Brand | C3: Model | D3: Unit Price (USD) | E3: Quality | F3: Description | G3: Color | H3: With logo (Y/N) | I3: Qty (PCS) | J3: Amount (USD)
A4: L43698 | B4: For One Plus | C4: ML-Lcd-For One Plus-10 Pro | D4: 20.02 | E4: INCELL | F4: LCD+Touch | G4: Black | H4: N | J4: =D4*I4 -> 0
A5: L05484 | B5: For One Plus | C5: ML-Lcd-For One Plus-10 Pro | D5: 107.42 | E5: original change glass | F5: LCD+Touch | G5: Black | H5: N | J5: =D5*I5 -> 0
A6: L48413 | B6: For One Plus | C6: ML-Lcd-For One Plus-10 Pro | D6: 90.78 | E6: soft OLED | F6: LCD+Touch | G6: Black | H6: N | J6: =D6*I6 -> 0
A7: L43799 | B7: For One Plus | C7: ML-Lcd-For One Plus-10R | D7: 15.4 | E7: INCELL | F7: LCD+Touch | G7: Black | H7: N | J7: =D7*I7 -> 0
A8: L48649 | B8: For One Plus | C8: ML-Lcd-For One Plus-10R | D8: 29.26 | E8: new Original | F8: LCD+Touch | G8: Black | H8: N | J8: =D8*I8 -> 0
A9: L46786 | B9: For One Plus | C9: ML-Lcd-For One Plus-10T | D9: 9.6 | E9: INCELL | F9: LCD+Touch HD(XE) OnePlus 10r/Reno 8 Pro 5G(CPH2357) /Reno 8 Pro+ 5G/OnePlus Ace/OnePlus Ace Pro/OnePlus 10T 5G/Realme GT Neo 3 150w/Realme GT2 Explorer Master | G9: Black | H9: N | J9: =D9*I9 -> 0
A10: L32581 | B10: For One Plus | C10: ML-Lcd-For One Plus-10T | D10: 32.05 | E10: new Original | F10: LCD+Touch | G10: Black | H10: N | J10: =D10*I10 -> 0
A11: L48912 | B11: For One Plus | C11: ML-Lcd-For One Plus-10T | D11: 47.32 | E11: soft OLED | F11: LCD+Touch with frame | G11: Black | H11: N | J11: =D11*I11 -> 0
A12: L46958 | B12: For One Plus | C12: ML-Lcd-For One Plus-10T | D12: 26.18 | E12: soft OLED | F12: LCD+Touch | G12: Black | H12: N | J12: =D12*I12 -> 0
A13: L50793 | B13: For One Plus | C13: ML-Lcd-For One Plus-11 | D13: 107.42 | E13: original change glass | F13: LCD+Touch | G13: Black | H13: N | J13: =D13*I13 -> 0
A14: L48412 | B14: For One Plus | C14: ML-Lcd-For One Plus-11 | D14: 91.58 | E14: soft OLED | F14: LCD+Touch | G14: Black | H14: N | J14: =D14*I14 -> 0
A15: L41390 | B15: For One Plus | C15: ML-Lcd-For One Plus-11 | D15: 108.93 | E15: USED | F15: LCD+Touch | G15: Black | H15: N | J15: =D15*I15 -> 0
... A37: L19172 | B37: For One Plus | C37: ML-Lcd-For One Plus-6T | D37: 25.06 | E37: original change glass | F37: LCD+Touch | G37: Black | H37: N | J37: =D37*I37 -> 0
A38: L50094 | B38: For One Plus | C38: ML-Lcd-For One Plus-7 | D38: 32.82 | F38: LCD+Touch with frame | G38: Black | H38: N | J38: =D38*I38 -> 0
A39: L08501 | B39: For One Plus | C39: ML-Lcd-For One Plus-7 | D39: 16.63 | E39: hard OLED | F39: LCD+Touch | G39: Black | H39: N | J39: =D39*I39 -> 0
A40: L08500 | B40: For One Plus | C40: ML-Lcd-For One Plus-7 | D40: 7.83 | E40: INCELL | F40: LCD+Touch | G40: Black | H40: N | J40: =D40*I40 -> 0
A41: L18109 | B41: For One Plus | C41: ML-Lcd-For One Plus-7 | D41: 23.1 | E41: original change glass | F41: LCD+Touch | G41: Black | H41: N | J41: =D41*I41 -> 0
A42: L12692 | B42: For One Plus | C42: ML-Lcd-For One Plus-7 Pro | D42: 85.48 | E42: new Original | F42: LCD+Touch OnePlus 7 Pro | G42: Black | H42: N | J42: =D42*I42 -> 0
A43: L05482 | B43: For One Plus | C43: ML-Lcd-For One Plus-7 Pro | D43: 84.73 | E43: original change glass | F43: LCD+Touch OnePlus 7 Pro | G43: Black | H43: N | J43: =D43*I43 -> 0
A44: L05518 | B44: For One Plus | C44: ML-Lcd-For One Plus-7T | D44: 17.85 | E44: hard OLED | F44: LCD+Touch Small Size | G44: Black | H44: N | J44: =D44*I44 -> 0
A45: L08502 | B45: For One Plus | C45: ML-Lcd-For One Plus-7T | D45: 8.48 | E45: INCELL | F45: LCD+Touch | G45: Black | H45: N | J45: =D45*I45 -> 0
A46: L22465 | B46: For One Plus | C46: ML-Lcd-For One Plus-7T | D46: 58 | E46: original change glass | F46: LCD+Touch | G46: Black | H46: N | J46: =D46*I46 -> 0
A47: L45536 | B47: For One Plus | C47: ML-Lcd-For One Plus-7T Pro | D47: 21.56 | E47: INCELL | F47: LCD+Touch | G47: Black | H47: N | J47: =D47*I47 -> 0
A48: L39244 | B48: For One Plus | C48: ML-Lcd-For One Plus-7T Pro | D48: 84.73 | E48: new Original | F48: LCD+Touch | G48: Black | H48: N | J48: =D48*I48 -> 0
A49: L45537 | B49: For One Plus | C49: ML-Lcd-For One Plus-7T Pro | D49: 56.2 | E49: soft OLED | F49: LCD+Touch | G49: Black | H49: N | J49: =D49*I49 -> 0
A50: L17313 | B50: For One Plus | C50: ML-Lcd-For One Plus-8 | D50: 12.43 | E50: INCELL | F50: LCD+Touch Reno 4 Pro | G50: Black | H50: N | J50: =D50*I50 -> 0
... A62: L36078 | B62: For One Plus | C62: ML-Lcd-For One Plus-8T | D62: 70.52 | E62: USED | F62: LCD+Touch OnePlus 9 RT/Realme X7 Pro(Samsung Version) | G62: Black | H62: N | J62: =D62*I62 -> 0
A63: L50090 | B63: For One Plus | C63: ML-Lcd-For One Plus-9 | D63: 42.74 | F63: LCD+Touch with frame | G63: Black | H63: N | J63: =D63*I63 -> 0
A64: L43684 | B64: For One Plus | C64: ML-Lcd-For One Plus-9 | D64: 31.84 | E64: hard OLED | F64: LCD+Touch | G64: Black | H64: N | J64: =D64*I64 -> 0
A65: L43686 | B65: For One Plus | C65: ML-Lcd-For One Plus-9 | D65: 8.62 | E65: INCELL | F65: LCD+Touch | G65: Black | H65: N | J65: =D65*I65 -> 0
A66: L16580 | B66: For One Plus | C66: ML-Lcd-For One Plus-9 | D66: 60.05 | E66: USED | F66: LCD+Touch | G66: Black | H66: N | J66: =D66*I66 -> 0
A67: L43680 | B67: For One Plus | C67: ML-Lcd-For One Plus-9 Plus | D67: 48.84 | E67: INCELL | F67: LCD+Touch | G67: Black | H67: N | J67: =D67*I67 -> 0
A68: L42953 | B68: For One Plus | C68: ML-Lcd-For One Plus-9 Pro | D68: 18.17 | E68: INCELL | F68: LCD+Touch | G68: Black | H68: N | J68: =D68*I68 -> 0
A69: L12639 | B69: For One Plus | C69: ML-Lcd-For One Plus-9 Pro | D69: 119.52 | E69: original change glass | F69: LCD+Touch Find X3/Find X3 Pro | G69: Black | H69: N | J69: =D69*I69 -> 0
A70: L48373 | B70: For One Plus | C70: ML-Lcd-For One Plus-9 Pro | D70: 98.78 | E70: soft OLED | F70: LCD+Touch | G70: Black | H70: N | J70: =D70*I70 -> 0
A71: L43671 | B71: For One Plus | C71: ML-Lcd-For One Plus-9E | D71: 9.24 | E71: soft OLED | F71: LCD+Touch | G71: Black | H71: N | J71: =D71*I71 -> 0
A72: L43670 | B72: For One Plus | C72: ML-Lcd-For One Plus-9E | D72: 35.87 | E72: USED | F72: LCD+Touch | G72: Black | H72: N | J72: =D72*I72 -> 0
A73: L43666 | B73: For One Plus | C73: ML-Lcd-For One Plus-9R | D73: 31.84 | E73: hard OLED | F73: LCD+Touch | G73: Black | H73: N | J73: =D73*I73 -> 0
A74: L43667 | B74: For One Plus | C74: ML-Lcd-For One Plus-9R | D74: 8.46 | E74: INCELL | F74: LCD+Touch | G74: Black | H74: N | J74: =D74*I74 -> 0
A75: L43664 | B75: For One Plus | C75: ML-Lcd-For One Plus-9R | D75: 70.52 | E75: USED | F75: LCD+Touch | G75: Black | H75: N | J75: =D75*I75 -> 0
... A136: L50824 | B136: For One Plus | C136: ML-Lcd-For One Plus-Open | D136: 247.43 | E136: new Original | F136: LCD+Touch（Big Lcd Screen） | G136: Black | H136: N | J136: =D136*I136 -> 0

Sheet Other LCD
A1: Other LCD
I2: Total(USD)： | J2: =SUM(J4:J1862) -> 0
A3: Code | B3: Brand | C3: Model | D3: Unit Price (USD) | E3: Quality | F3: Description | G3: Color | H3: With logo (Y/N) | I3: Qty (PCS) | J3: Amount (USD)
A4: L10062 | B4: For Acer | C4: TL-Lcd-For Acer-B1-723 | D4: 10.28 | E4: High Copy | F4: LCD Only | H4: N | J4: =D4*I4 -> 0
A5: L02945 | B5: For Alcatel | C5: ML-Lcd-For Alcatel-3H | D5: 6.58 | E5: Original Self Welded | F5: LCD+Touch | G5: Black | H5: N | J5: =D5*I5 -> 0
A6: L39262 | B6: For Alcatel | C6: ML-Lcd-For Alcatel-3H Plus | D6: 6.27 | E6: Original Self Welded | F6: LCD+Touch 5H Plus | G6: Black | H6: N | J6: =D6*I6 -> 0
A7: L39605 | B7: For Alcatel | C7: ML-Lcd-For Alcatel-3X Plus | D7: 6.43 | E7: Original Self Welded | F7: LCD+Touch | G7: Black | H7: N | J7: =D7*I7 -> 0
A8: L00317 | B8: For Alcatel | C8: ML-Lcd-For Alcatel-4047 | D8: 8.62 | E8: Original Self Welded | F8: LCD+Touch | G8: Black | H8: N | J8: =D8*I8 -> 0
A9: L14918 | B9: For Alcatel | C9: ML-Lcd-For Alcatel-4063F | D9: 9.4 | E9: Original Self Welded | F9: LCD+Touch 1L Plus/1L 2021 | G9: Black | H9: N | J9: =D9*I9 -> 0
A10: L29423 | B10: For Alcatel | C10: ML-Lcd-For Alcatel-5002 | D10: 6.75 | E10: Original Self Welded | F10: LCD+Touch High DefInition 1B 2020 | G10: Black | H10: N | J10: =D10*I10 -> 0
A11: L07345 | B11: For Alcatel | C11: ML-Lcd-For Alcatel-5002 | D11: 6.75 | E11: Original Self Welded | F11: LCD+Touch Puqing 1B 2020 | G11: Black | H11: N | J11: =D11*I11 -> 0
A12: L11147 | B12: For Alcatel | C12: ML-Lcd-For Alcatel-5006 | D12: 11.65 | E12: Original Self Welded | F12: LCD+Touch | G12: Black | H12: N | J12: =D12*I12 -> 0
A13: L26436 | B13: For Alcatel | C13: ML-Lcd-For Alcatel-5007A | D13: 6.58 | E13: Original Self Welded | F13: LCD+Touch 5007z/Revvl4 | G13: Black | H13: N | J13: =D13*I13 -> 0
A14: L07343 | B14: For Alcatel | C14: ML-Lcd-For Alcatel-5007A | D14: 6.59 | E14: Original Self Welded | F14: LCD+Touch 5007U/5007G/1V 2020/1V 2020 Plus/5007z/Revvl4/1V 2020 Plus/Tcl L9s/5007/5007G | G14: Black | H14: N | J14: =D14*I14 -> 0
A15: L02337 | B15: For Alcatel | C15: ML-Lcd-For Alcatel-5008 | D15: 8.62 | E15: Original Self Welded | F15: LCD+Touch 1*2019 | G15: Black | H15: N | J15: =D15*I15 -> 0
A16: L00335 | B16: For Alcatel | C16: ML-Lcd-For Alcatel-5010 | D16: 3.95 | E16: Original Self Welded | F16: LCD+Touch with frame | H16: N | J16: =D16*I16 -> 0
A17: L00312 | B17: For Alcatel | C17: ML-Lcd-For Alcatel-5012 | D17: 7.83 | E17: Original Self Welded | F17: LCD+Touch | G17: Black | H17: N | J17: =D17*I17 -> 0
A18: L00320 | B18: For Alcatel | C18: ML-Lcd-For Alcatel-5022 | D18: 7.05 | E18: Original Self Welded | F18: LCD+Touch | G18: Black | H18: N | J18: =D18*I18 -> 0
A19: L00301 | B19: For Alcatel | C19: ML-Lcd-For Alcatel-5026 | D19: 15.4 | E19: Original Self Welded | F19: LCD+Touch Alcatel 3C | G19: Black | H19: N | J19: =D19*I19 -> 0
A20: L30991 | B20: For Alcatel | C20: ML-Lcd-For Alcatel-5028A | D20: 11.65 | E20: Original Self Welded | F20: LCD+Touch with frame 1S 2020 | G20: Black | H20: N | J20: =D20*I20 -> 0
A21: L07344 | B21: For Alcatel | C21: ML-Lcd-For Alcatel-5028A | D21: 6.59 | E21: Original Self Welded | F21: LCD+Touch 1S 2020/5028A | G21: Black | H21: N | J21: =D21*I21 -> 0
A22: L07341 | B22: For Alcatel | C22: ML-Lcd-For Alcatel-5029E | D22: 6.59 | E22: Original Self Welded | F22: LCD+Touch Alcatel 3L 2020/5029/5007/5028 | G22: Black | H22: N | J22: =D22*I22 -> 0
A23: L44552 | B23: For Alcatel | C23: ML-Lcd-For Alcatel-5030 | D23: 9.4 | E23: Original Self Welded | F23: LCD+Touch with frame 1SE | G23: Black | H23: N | J23: =D23*I23 -> 0
A24: L10221 | B24: For Alcatel | C24: ML-Lcd-For Alcatel-5030 | D24: 6.43 | E24: Original Self Welded | F24: LCD+Touch 1SE/4087/4087D | G24: Black | H24: N | J24: =D24*I24 -> 0
A25: L30260 | B25: For Alcatel | C25: ML-Lcd-For Alcatel-5031 | D25: 7.52 | E25: Original Self Welded | F25: LCD+Touch 1B 2022 | G25: Black | H25: N | J25: =D25*I25 -> 0
A26: L24438 | B26: For Alcatel | C26: ML-Lcd-For Alcatel-5032 | D26: 10.87 | E26: Original Self Welded | F26: LCD+Touch 3V 2019 | G26: Black | H26: N | J26: =D26*I26 -> 0
A27: L12671 | B27: For Alcatel | C27: ML-Lcd-For Alcatel-5033 | D27: 3.95 | E27: High Copy | F27: LCD Only | H27: N | J27: =D27*I27 -> 0
A28: L33659 | B28: For Alcatel | C28: ML-Lcd-For Alcatel-5033 | D28: 7.05 | E28: Original Self Welded | F28: LCD+Touch with frame Acatel One | G28: Black | H28: N | J28: =D28*I28 -> 0
A29: L00298 | B29: For Alcatel | C29: ML-Lcd-For Alcatel-5033 | D29: 6.43 | E29: Original Self Welded | F29: LCD+Touch Alcatel One | G29: Black | H29: N | J29: =D29*I29 -> 0
A30: L10416 | B30: For Alcatel | C30: ML-Lcd-For Alcatel-5039 | D30: 16.94 | E30: High Copy | F30: LCD+Touch 3l 2019 | G30: Black | H30: N | J30: =D30*I30 -> 0
A31: L23946 | B31: For Alcatel | C31: ML-Lcd-For Alcatel-5041 | D31: 10.18 | E31: Original Self Welded | F31: LCD+Touch | G31: Black | H31: N | J31: =D31*I31 -> 0
A32: L12258 | B32: For Alcatel | C32: ML-Lcd-For Alcatel-5048 | D32: 6.43 | E32: Original Self Welded | F32: LCD+Touch 3X 2019/5048A | G32: Black | H32: N | J32: =D32*I32 -> 0
A33: L00318 | B33: For Alcatel | C33: ML-Lcd-For Alcatel-5049 | D33: 7.83 | E33: Original Self Welded | F33: LCD+Touch 5049A | G33: Black | H33: N | J33: =D33*I33 -> 0
A34: L00322 | B34: For Alcatel | C34: ML-Lcd-For Alcatel-5051 | D34: 7.83 | E34: Original Self Welded | F34: LCD+Touch | G34: Black | H34: N | J34: =D34*I34 -> 0
A35: L02333 | B35: For Alcatel | C35: ML-Lcd-For Alcatel-5052 | D35: 7.83 | E35: Original Self Welded | F35: LCD+Touch | G35: Black | H35: N | J35: =D35*I35 -> 0
A36: L08877 | B36: For Alcatel | C36: ML-Lcd-For Alcatel-5053 | D36: 16.94 | E36: Original Self Welded | F36: LCD+Touch Alcatel 3L 2019/5053K/5053Y/5053D/5039/5039D | G36: Black | H36: N | J36: =D36*I36 -> 0
A37: L00340 | B37: For Alcatel | C37: ML-Lcd-For Alcatel-5054 | D37: 5.48 | E37: Original Self Welded | F37: LCD Only | H37: N | J37: =D37*I37 -> 0
A38: L00303 | B38: For Alcatel | C38: ML-Lcd-For Alcatel-5058 | D38: 9.6 | E38: Original Self Welded | F38: LCD+Touch Alcatel 3X | G38: Black | H38: N | J38: =D38*I38 -> 0
A39: L02338 | B39: For Alcatel | C39: ML-Lcd-For Alcatel-5058 | D39: 9.6 | E39: Original Self Welded | F39: LCD+Touch Alcatel 3X | G39: White | H39: N | J39: =D39*I39 -> 0
A40: L07342 | B40: For Alcatel | C40: ML-Lcd-For Alcatel-5060 | D40: 21.56 | E40: Original | F40: LCD+Touch 5V | G40: Black | H40: N | J40: =D40*I40 -> 0
A41: L26736 | B41: For Alcatel | C41: ML-Lcd-For Alcatel-5062 | D41: 6.58 | E41: Original Self Welded | F41: LCD+Touch Revvel 4+ 5062 | G41: Black | H41: N | J41: =D41*I41 -> 0
A42: L00314 | B42: For Alcatel | C42: ML-Lcd-For Alcatel-5080 | D42: 10.65 | E42: Original Self Welded | F42: LCD+Touch Shine | G42: White | H42: N | J42: =D42*I42 -> 0
A43: L00307 | B43: For Alcatel | C43: ML-Lcd-For Alcatel-5085 | D43: 10.18 | E43: Original Self Welded | F43: LCD+Touch without Home Button | G43: Black | H43: N | J43: =D43*I43 -> 0
A44: L00299 | B44: For Alcatel | C44: ML-Lcd-For Alcatel-5086 | D44: 10.87 | E44: Original Self Welded | F44: LCD+Touch Alcatel 5 | G44: Black | H44: N | J44: =D44*I44 -> 0
A45: L12260 | B45: For Alcatel | C45: ML-Lcd-For Alcatel-5095 | D45: 8.3 | E45: Original Self Welded | F45: LCD+Touch | G45: Black | H45: N | J45: =D45*I45 -> 0
A46: L12261 | B46: For Alcatel | C46: ML-Lcd-For Alcatel-5099 | D46: 14.75 | E46: Original Self Welded | F46: LCD+Touch Alcatel 3V | G46: Black | H46: N | J46: =D46*I46 -> 0
A47: L34434 | B47: For Alcatel | C47: ML-Lcd-For Alcatel-6002 | D47: 6.42 | E47: Original Self Welded | F47: LCD+Touch 1V 2021/6002A/6002D | G47: Black | H47: N | J47: =D47*I47 -> 0
A48: L03844 | B48: For Alcatel | C48: ML-Lcd-For Alcatel-6025 | D48: 6.75 | E48: Original Self Welded | F48: LCD+Touch 1S 2021 | G48: Black | H48: N | J48: =D48*I48 -> 0
A49: L00530 | B49: For Alcatel | C49: ML-Lcd-For Alcatel-6027 | D49: 6.89 | E49: Original Self Welded | F49: LCD+Touch 3H Plus | G49: Black | H49: N | J49: =D49*I49 -> 0
... A54: L38635 | B54: For Alcatel | C54: ML-Lcd-For Alcatel-6065 | D54: 6.89 | E54: Original Self Welded | F54: LCD+Touch 5H Plus | G54: Black | H54: N | J54: =D54*I54 -> 0
A55: L13613 | B55: For Alcatel | C55: ML-Lcd-For Alcatel-8050 | D55: 3.95 | E55: Original Self Welded | F55: LCD Only | H55: N | J55: =D55*I55 -> 0
A56: L00310 | B56: For Alcatel | C56: ML-Lcd-For Alcatel-8050 | D56: 3.92 | E56: Original Self Welded | F56: LCD+Touch with frame | G56: Black | H56: N | J56: =D56*I56 -> 0
A57: L00326 | B57: For Alcatel | C57: ML-Lcd-For Alcatel-9001 | D57: 9.09 | E57: Original Self Welded | F57: LCD+Touch | G57: Black | H57: N | J57: =D57*I57 -> 0
A58: L17005 | B58: For Alcatel | C58: ML-Lcd-For Alcatel-9009 | D58: 8.93 | E58: Original Self Welded | F58: LCD Only | H58: N | J58: =D58*I58 -> 0
A59: L00305 | B59: For Alcatel | C59: ML-Lcd-For Alcatel-A3XL | D59: 3.95 | E59: Original Self Welded | F59: LCD+Touch | G59: Black | H59: N | J59: =D59*I59 -> 0
A60: L05682 | B60: For Alcatel | C60: ML-Lcd-For Alcatel-OT5024D | D60: 6.59 | E60: Original Self Welded | F60: LCD+Touch 5024/1S 2019/5024j | G60: Black | H60: N | J60: =D60*I60 -> 0
A61: L00549 | B61: For Alcatel | C61: ML-Lcd-For Alcatel-OT5061 | D61: 6.43 | E61: Original Self Welded | F61: LCD+Touch 3X 2020/5X | G61: Black | H61: N | J61: =D61*I61 -> 0
A62: L49601 | B62: For Alcatel | C62: TL-Lcd-For Alcatel-8092 | D62: 13.98 | E62: Original Self Welded | F62: LCD+Touch | H62: N | J62: =D62*I62 -> 0
A63: L47090 | B63: For Alcatel | C63: TL-Lcd-For Alcatel-8094 | D63: 18.48 | E63: Original | F63: LCD+Touch | H63: N | J63: =D63*I63 -> 0
A64: L29486 | B64: For Alcatel | C64: TL-Lcd-For Alcatel-9032 | D64: 9.4 | E64: Original | F64: LCD Only | H64: N | J64: =D64*I64 -> 0
A65: L34689 | B65: For Alcatel | C65: TL-Lcd-For Alcatel-9032 | D65: 11.2 | E65: Original Self Welded | F65: LCD+Touch | G65: Black | H65: N | J65: =D65*I65 -> 0
A66: L41990 | B66: For Alcatel | C66: TL-Lcd-For Alcatel-9132S | D66: 10.18 | E66: Original Self Welded | F66: LCD Only | G66: Black | H66: N | J66: =D66*I66 -> 0
A67: L27522 | B67: For Alcatel | C67: TL-Lcd-For Alcatel-T3 | D67: 20.03 | E67: Original | F67: LCD+Touch 8094m | G67: Black | H67: N | J67: =D67*I67 -> 0
A68: L51045 | B68: For Amazfit | C68: ML-Lcd-For Amazfit-GTR 3pro | D68: 18.96 | E68: Original | F68: Lcd+touch | H68: N | J68: =D68*I68 -> 0
A69: L49624 | B69: For Amazon | C69: TL-Lcd-For Amazon-Fire HD 10 | D69: 17.88 | E69: Original Self Welded | F69: LCD+Touch T76N2B | G69: Black | H69: N | J69: =D69*I69 -> 0
A70: L49625 | B70: For Amazon | C70: TL-Lcd-For Amazon-HD 10 2021 11TH | D70: 18.66 | E70: Original Self Welded | F70: LCD+Touch T76N2B | G70: Black | H70: N | J70: =D70*I70 -> 0
A71: L49626 | B71: For Amazon | C71: TL-Lcd-For Amazon-HD8 | D71: 13.33 | E71: Original Self Welded | F71: LCD+Touch T76N2B | G71: Black | H71: N | J71: =D71*I71 -> 0
A72: L34955 | B72: For Asus | C72: ML-Lcd-For Asus-Rog Phone 3 | D72: 52.66 | E72: Original | F72: LCD+Touch ZS661KS | G72: Black | H72: N | J72: =D72*I72 -> 0
A73: L32894 | B73: For Asus | C73: ML-Lcd-For Asus-Rog Phone 3 | D73: 51.9 | E73: Original Self Welded | F73: LCD+Touch ZS661KS | G73: Black | H73: N | J73: =D73*I73 -> 0
A74: L32892 | B74: For Asus | C74: ML-Lcd-For Asus-Rog Phone 5 | D74: 61.05 | E74: Original | F74: LCD+Touch with frame | G74: White | H74: N | J74: =D74*I74 -> 0
A75: L18634 | B75: For Asus | C75: ML-Lcd-For Asus-Rog Phone 5 | D75: 38.16 | E75: Original | F75: LCD+Touch with frame | G75: Black | H75: N | J75: =D75*I75 -> 0
A76: L46211 | B76: For Asus | C76: ML-Lcd-For Asus-Rog Phone 6 | D76: 64.11 | E76: Original | F76: LCD+Touch with frame | G76: Black | H76: N | J76: =D76*I76 -> 0
A77: L09645 | B77: For Asus | C77: ML-Lcd-For Asus-ZA550KL | D77: 7.05 | E77: High Copy | F77: LCD+Touch | G77: Black | H77: N | J77: =D77*I77 -> 0
A78: L03725 | B78: For Asus | C78: ML-Lcd-For Asus-ZB551KL | D78: 10.18 | E78: High Copy | F78: LCD+Touch with frame | G78: Black | H78: N | J78: =D78*I78 -> 0
A79: L47906 | B79: For Asus | C79: ML-Lcd-For Asus-ZB555KL | D79: 6.27 | E79: High Copy | F79: LCD+Touch Max M1 | G79: Black | H79: N | J79: =D79*I79 -> 0
A80: L07412 | B80: For Asus | C80: ML-Lcd-For Asus-ZB570TL | D80: 8.8 | E80: Original | F80: LCD+Touch with frame | G80: Black | H80: N | J80: =D80*I80 -> 0
... A154: L14424 | B154: For Blackview | C154: ML-Lcd-For Blackview-A80S | D154: 11.77 | E154: High Copy | F154: LCD+Touch | G154: Black | H154: N | J154: =D154*I154 -> 0
A155: L35266 | B155: For Blackview | C155: ML-Lcd-For Blackview-A85 | D155: 10.18 | E155: Original Self Welded | F155: LCD+Touch | H155: N | J155: =D155*I155 -> 0
A156: L18689 | B156: For Blackview | C156: ML-Lcd-For Blackview-A90 | D156: 10.28 | E156: Original Self Welded | F156: LCD+Touch | G156: Black | H156: N | J156: =D156*I156 -> 0
A157: L32519 | B157: For Blackview | C157: ML-Lcd-For Blackview-A95 | D157: 7.95 | E157: Original Self Welded | F157: LCD+Touch | G157: Black | H157: N | J157: =D157*I157 -> 0
A158: L43461 | B158: For Blackview | C158: ML-Lcd-For Blackview-A96 | D158: 13.02 | E158: Original Self Welded | F158: LCD+Touch | G158: Black | H158: N | J158: =D158*I158 -> 0
A159: L30251 | B159: For Blackview | C159: ML-Lcd-For Blackview-BL5000 | D159: 15.29 | E159: Original | F159: LCD+Touch | G159: Black | H159: N | J159: =D159*I159 -> 0
A160: L29055 | B160: For Blackview | C160: ML-Lcd-For Blackview-BL6000 | D160: 11.77 | E160: Original | F160: LCD+Touch | G160: Black | H160: N | J160: =D160*I160 -> 0
A161: L38767 | B161: For Blackview | C161: ML-Lcd-For Blackview-BL8800 | D161: 43.17 | E161: Original | F161: LCD+Touch with frame | G161: Black | H161: N | J161: =D161*I161 -> 0
A162: L42923 | B162: For Blackview | C162: ML-Lcd-For Blackview-BL8800 | D162: 9.18 | E162: Original Self Welded | F162: LCD+Touch View BL8800 Pro | G162: Black | H162: N | J162: =D162*I162 -> 0
A163: L45435 | B163: For Blackview | C163: ML-Lcd-For Blackview-BL9000 | D163: 12.55 | E163: Original Self Welded | F163: LCD+Touch | G163: Black | H163: N | J163: =D163*I163 -> 0
A164: L48074 | B164: For Blackview | C164: ML-Lcd-For Blackview-BL9000 Pro | D164: 12.44 | E164: Original Self Welded | F164: LCD+Touch | G164: Black | H164: N | J164: =D164*I164 -> 0
A165: L46041 | B165: For Blackview | C165: ML-Lcd-For Blackview-Black Berry Dtek | D165: 10.98 | E165: Original Self Welded | F165: LCD+Touch | G165: Black | H165: N | J165: =D165*I165 -> 0
A166: L45425 | B166: For Blackview | C166: ML-Lcd-For Blackview-BV4800 | D166: 11.31 | E166: Original Self Welded | F166: LCD+Touch | G166: Black | H166: N | J166: =D166*I166 -> 0
A167: L21004 | B167: For Blackview | C167: ML-Lcd-For Blackview-BV4900 Pro | D167: 8.56 | E167: Original Self Welded | F167: LCD+Touch BV4900 | G167: Black | H167: N | J167: =D167*I167 -> 0
... A177: L29362 | B177: For Blackview | C177: ML-Lcd-For Blackview-BV5800 | D177: 10.02 | E177: Original | F177: LCD+Touch | G177: Black | H177: N | J177: =D177*I177 -> 0
A178: L18690 | B178: For Blackview | C178: ML-Lcd-For Blackview-BV5900 | D178: 10.76 | E178: Original Self Welded | F178: LCD+Touch | H178: N | J178: =D178*I178 -> 0
A179: L48075 | B179: For Blackview | C179: ML-Lcd-For Blackview-BV6200 | D179: 10.28 | E179: Original Self Welded | F179: LCD+Touch | G179: Black | H179: N | J179: =D179*I179 -> 0
A180: L13221 | B180: For Blackview | C180: ML-Lcd-For Blackview-BV6300 | D180: 10.28 | E180: Original Self Welded | F180: LCD+Touch BV6300 Pro | G180: Black | H180: N | J180: =D180*I180 -> 0
A181: L19420 | B181: For Blackview | C181: ML-Lcd-For Blackview-BV6600 | D181: 8.08 | E181: Original Self Welded | F181: LCD+Touch BV6600 Pro | G181: Black | H181: N | J181: =D181*I181 -> 0
A182: L14996 | B182: For Blackview | C182: ML-Lcd-For Blackview-Bv6800 | D182: 10.76 | E182: High Copy | F182: LCD+Touch | G182: Black | H182: N | J182: =D182*I182 -> 0
A183: L45957 | B183: For Blackview | C183: ML-Lcd-For Blackview-BV7000 | D183: 4.75 | E183: High Copy | F183: LCD+Touch | G183: Black | H183: N | J183: =D183*I183 -> 0
A184: L41598 | B184: For Blackview | C184: ML-Lcd-For Blackview-BV7000 | D184: 7.91 | E184: Original | F184: LCD+Touch with frame | G184: Black | H184: N | J184: =D184*I184 -> 0
A185: L36013 | B185: For Blackview | C185: ML-Lcd-For Blackview-BV7100 | D185: 10.18 | E185: Original Self Welded | F185: LCD+Touch | G185: Black | H185: N | J185: =D185*I185 -> 0
A186: L46649 | B186: For Blackview | C186: ML-Lcd-For Blackview-BV7200 | D186: 33.92 | E186: Original Self Welded | F186: LCD+Touch with frame | G186: Black | H186: N | J186: =D186*I186 -> 0
...
